BEGIN:VCALENDAR
VERSION:2.0
PRODID:-//Actu.Art - ECPv6.15.13//NONSGML v1.0//EN
CALSCALE:GREGORIAN
METHOD:PUBLISH
X-WR-CALNAME:Actu.Art
X-ORIGINAL-URL:https://actu.art
X-WR-CALDESC:Évènements pour Actu.Art
BEGIN:VTIMEZONE
TZID:Europe/Paris
BEGIN:DAYLIGHT
TZOFFSETFROM:+0100
TZOFFSETTO:+0200
TZNAME:CEST
DTSTART:20250330T010000
END:DAYLIGHT
BEGIN:STANDARD
TZOFFSETFROM:+0200
TZOFFSETTO:+0100
TZNAME:CET
DTSTART:20251026T010000
END:STANDARD
BEGIN:DAYLIGHT
TZOFFSETFROM:+0100
TZOFFSETTO:+0200
TZNAME:CEST
DTSTART:20260329T010000
END:DAYLIGHT
BEGIN:STANDARD
TZOFFSETFROM:+0200
TZOFFSETTO:+0100
TZNAME:CET
DTSTART:20261025T010000
END:STANDARD
BEGIN:DAYLIGHT
TZOFFSETFROM:+0100
TZOFFSETTO:+0200
TZNAME:CEST
DTSTART:20270328T010000
END:DAYLIGHT
BEGIN:STANDARD
TZOFFSETFROM:+0200
TZOFFSETTO:+0100
TZNAME:CET
DTSTART:20271031T010000
END:STANDARD
END:VTIMEZONE
BEGIN:VEVENT
DTSTART;VALUE=DATE:20260131
DTEND;VALUE=DATE:20260202
DTSTAMP:20260424T065641
CREATED:20260130T114924Z
LAST-MODIFIED:20260130T114924Z
UID:137307-1769817600-1769990399@actu.art
SUMMARY:Exposition de miniatures
DESCRIPTION:Au programme :\nExposition de maquettes et de figurines\,\nExposition d’objets militaires (dont une enigma)\,\nDémonstration de montage et/ou de peinture\, …
URL:https://actu.art/event/exposition-de-miniatures/
LOCATION:Hotel de la Monnaie\, 6 rue de la Monnaie\, Molsheim\, Bas-Rhin\, 67120
CATEGORIES:Expositions
ATTACH;FMTTYPE=image/jpeg:https://actu.art/wp-content/uploads/2026/01/Exposition_de_miniatures.jpg
GEO:48.5415495;7.4958399
X-APPLE-STRUCTURED-LOCATION;VALUE=URI;X-ADDRESS=Hotel de la Monnaie 6 rue de la Monnaie Molsheim Bas-Rhin 67120;X-APPLE-RADIUS=500;X-TITLE=6 rue de la Monnaie:geo:7.4958399,48.5415495
END:VEVENT
END:VCALENDAR