BEGIN:VCALENDAR
VERSION:2.0
PRODID:-//Actu.Art - ECPv6.15.13//NONSGML v1.0//EN
CALSCALE:GREGORIAN
METHOD:PUBLISH
X-WR-CALNAME:Actu.Art
X-ORIGINAL-URL:https://actu.art
X-WR-CALDESC:Évènements pour Actu.Art
BEGIN:VTIMEZONE
TZID:Europe/Paris
BEGIN:DAYLIGHT
TZOFFSETFROM:+0100
TZOFFSETTO:+0200
TZNAME:CEST
DTSTART:20250330T010000
END:DAYLIGHT
BEGIN:STANDARD
TZOFFSETFROM:+0200
TZOFFSETTO:+0100
TZNAME:CET
DTSTART:20251026T010000
END:STANDARD
BEGIN:DAYLIGHT
TZOFFSETFROM:+0100
TZOFFSETTO:+0200
TZNAME:CEST
DTSTART:20260329T010000
END:DAYLIGHT
BEGIN:STANDARD
TZOFFSETFROM:+0200
TZOFFSETTO:+0100
TZNAME:CET
DTSTART:20261025T010000
END:STANDARD
BEGIN:DAYLIGHT
TZOFFSETFROM:+0100
TZOFFSETTO:+0200
TZNAME:CEST
DTSTART:20270328T010000
END:DAYLIGHT
BEGIN:STANDARD
TZOFFSETFROM:+0200
TZOFFSETTO:+0100
TZNAME:CET
DTSTART:20271031T010000
END:STANDARD
END:VTIMEZONE
BEGIN:VEVENT
DTSTART;TZID=Europe/Paris:20260522T100000
DTEND;TZID=Europe/Paris:20260528T180000
DTSTAMP:20260425T012542
CREATED:20260309T221239Z
LAST-MODIFIED:20260309T221239Z
UID:140253-1779444000-1779991200@actu.art
SUMMARY:Exposition : de mers et de terres
DESCRIPTION:Dessins\, peintures et sculptures. Les auteurs vous convient à partager leurs émotions et leurs rêveries\, face aux mers et océans et à leur environnement
URL:https://actu.art/event/exposition-de-mers-et-de-terres/
LOCATION:Galerie du Petit Enfer\, Place du Petit Enfer\, Luc-sur-Mer\, Calvados\, 14530\, France
CATEGORIES:Expositions Galeries
GEO:49.3198233;-0.3538279
X-APPLE-STRUCTURED-LOCATION;VALUE=URI;X-ADDRESS=Galerie du Petit Enfer Place du Petit Enfer Luc-sur-Mer Calvados 14530 France;X-APPLE-RADIUS=500;X-TITLE=Place du Petit Enfer:geo:-0.3538279,49.3198233
END:VEVENT
END:VCALENDAR