BEGIN:VCALENDAR
VERSION:2.0
PRODID:-//Actu.Art - ECPv6.15.13//NONSGML v1.0//EN
CALSCALE:GREGORIAN
METHOD:PUBLISH
X-WR-CALNAME:Actu.Art
X-ORIGINAL-URL:https://actu.art
X-WR-CALDESC:Évènements pour Actu.Art
BEGIN:VTIMEZONE
TZID:Europe/Paris
BEGIN:DAYLIGHT
TZOFFSETFROM:+0100
TZOFFSETTO:+0200
TZNAME:CEST
DTSTART:20230326T010000
END:DAYLIGHT
BEGIN:STANDARD
TZOFFSETFROM:+0200
TZOFFSETTO:+0100
TZNAME:CET
DTSTART:20231029T010000
END:STANDARD
BEGIN:DAYLIGHT
TZOFFSETFROM:+0100
TZOFFSETTO:+0200
TZNAME:CEST
DTSTART:20240331T010000
END:DAYLIGHT
BEGIN:STANDARD
TZOFFSETFROM:+0200
TZOFFSETTO:+0100
TZNAME:CET
DTSTART:20241027T010000
END:STANDARD
BEGIN:DAYLIGHT
TZOFFSETFROM:+0100
TZOFFSETTO:+0200
TZNAME:CEST
DTSTART:20250330T010000
END:DAYLIGHT
BEGIN:STANDARD
TZOFFSETFROM:+0200
TZOFFSETTO:+0100
TZNAME:CET
DTSTART:20251026T010000
END:STANDARD
END:VTIMEZONE
BEGIN:VEVENT
DTSTART;TZID=Europe/Paris:20241018T100000
DTEND;TZID=Europe/Paris:20241030T170000
DTSTAMP:20260424T124652
CREATED:20240927T210000Z
LAST-MODIFIED:20240927T210000Z
UID:99525-1729245600-1730307600@actu.art
SUMMARY:Exposition de Martine Halleguen
DESCRIPTION:Découvrez l’exposition de peinture de Martine Halleguen\, dédiée aux paysages méditerranéens. Cette exposition met en lumière\nla beauté de ces paysages\, à travers le regard unique de l’artiste.
URL:https://actu.art/event/exposition-de-martine-halleguen/
LOCATION:Office de Tourisme du Massif des Costes\, Parc Roux de Brignoles\, Pélissanne\, Bouches-du-Rhône\, 13330\, France
CATEGORIES:Expositions
ATTACH;FMTTYPE=image/jpeg:https://actu.art/wp-content/uploads/2024/09/Exposition_de_Martine_Halleguen.jpg
GEO:43.6314647;5.152779
X-APPLE-STRUCTURED-LOCATION;VALUE=URI;X-ADDRESS=Office de Tourisme du Massif des Costes Parc Roux de Brignoles Pélissanne Bouches-du-Rhône 13330 France;X-APPLE-RADIUS=500;X-TITLE=Parc Roux de Brignoles:geo:5.152779,43.6314647
END:VEVENT
END:VCALENDAR