BEGIN:VCALENDAR
VERSION:2.0
PRODID:-//Actu.Art - ECPv6.15.13//NONSGML v1.0//EN
CALSCALE:GREGORIAN
METHOD:PUBLISH
X-WR-CALNAME:Actu.Art
X-ORIGINAL-URL:https://actu.art
X-WR-CALDESC:Évènements pour Actu.Art
BEGIN:VTIMEZONE
TZID:Europe/Paris
BEGIN:DAYLIGHT
TZOFFSETFROM:+0100
TZOFFSETTO:+0200
TZNAME:CEST
DTSTART:20240331T010000
END:DAYLIGHT
BEGIN:STANDARD
TZOFFSETFROM:+0200
TZOFFSETTO:+0100
TZNAME:CET
DTSTART:20241027T010000
END:STANDARD
BEGIN:DAYLIGHT
TZOFFSETFROM:+0100
TZOFFSETTO:+0200
TZNAME:CEST
DTSTART:20250330T010000
END:DAYLIGHT
BEGIN:STANDARD
TZOFFSETFROM:+0200
TZOFFSETTO:+0100
TZNAME:CET
DTSTART:20251026T010000
END:STANDARD
BEGIN:DAYLIGHT
TZOFFSETFROM:+0100
TZOFFSETTO:+0200
TZNAME:CEST
DTSTART:20260329T010000
END:DAYLIGHT
BEGIN:STANDARD
TZOFFSETFROM:+0200
TZOFFSETTO:+0100
TZNAME:CET
DTSTART:20261025T010000
END:STANDARD
END:VTIMEZONE
BEGIN:VEVENT
DTSTART;VALUE=DATE:20250723
DTEND;VALUE=DATE:20250825
DTSTAMP:20260422T094729
CREATED:20250801T142606Z
LAST-MODIFIED:20250801T142606Z
UID:125133-1753228800-1756079999@actu.art
SUMMARY:Exposition de Marie-Hélène Burgeat et de Joseph Teruel
DESCRIPTION:La Galerie de la Faïence ouvre ses porte pour sa quatrième exposition estivale. Du 23 juillet au 24 aout\, elle accueille l’artiste plasticienne Marie-Hélène BURGEAT et le peintre Joseph TERUEL.\nLa galerie est ouverte du mercredi au dimanche du 15h à  à 18h.\nDu mercredi au dimanche\, de 15h à 18h.
URL:https://actu.art/event/exposition-de-marie-helene-burgeat-et-de-joseph-teruel/
LOCATION:Galerie de la Faïence\, Grande Rue 59\, Ancy-le-Franc\, Yonne\, 89160\, France
CATEGORIES:Expositions Galeries
ATTACH;FMTTYPE=image/jpeg:https://actu.art/wp-content/uploads/2025/07/Exposition_de_Marie_Helene_Burgeat_et_de_Joseph_Teruel.jpg
GEO:47.7762327;4.16084
X-APPLE-STRUCTURED-LOCATION;VALUE=URI;X-ADDRESS=Galerie de la Faïence Grande Rue 59 Ancy-le-Franc Yonne 89160 France;X-APPLE-RADIUS=500;X-TITLE=Grande Rue 59:geo:4.16084,47.7762327
END:VEVENT
END:VCALENDAR