BEGIN:VCALENDAR
VERSION:2.0
PRODID:-//Actu.Art - ECPv6.15.13//NONSGML v1.0//EN
CALSCALE:GREGORIAN
METHOD:PUBLISH
X-WR-CALNAME:Actu.Art
X-ORIGINAL-URL:https://actu.art
X-WR-CALDESC:Évènements pour Actu.Art
BEGIN:VTIMEZONE
TZID:Europe/Paris
BEGIN:DAYLIGHT
TZOFFSETFROM:+0100
TZOFFSETTO:+0200
TZNAME:CEST
DTSTART:20240331T010000
END:DAYLIGHT
BEGIN:STANDARD
TZOFFSETFROM:+0200
TZOFFSETTO:+0100
TZNAME:CET
DTSTART:20241027T010000
END:STANDARD
BEGIN:DAYLIGHT
TZOFFSETFROM:+0100
TZOFFSETTO:+0200
TZNAME:CEST
DTSTART:20250330T010000
END:DAYLIGHT
BEGIN:STANDARD
TZOFFSETFROM:+0200
TZOFFSETTO:+0100
TZNAME:CET
DTSTART:20251026T010000
END:STANDARD
BEGIN:DAYLIGHT
TZOFFSETFROM:+0100
TZOFFSETTO:+0200
TZNAME:CEST
DTSTART:20260329T010000
END:DAYLIGHT
BEGIN:STANDARD
TZOFFSETFROM:+0200
TZOFFSETTO:+0100
TZNAME:CET
DTSTART:20261025T010000
END:STANDARD
END:VTIMEZONE
BEGIN:VEVENT
DTSTART;VALUE=DATE:20250523
DTEND;VALUE=DATE:20250530
DTSTAMP:20260426T001807
CREATED:20250530T215223Z
LAST-MODIFIED:20250530T215223Z
UID:118604-1747958400-1748563199@actu.art
SUMMARY:Exposition de l’association d’arts plastiques de Ouistreham
DESCRIPTION:Exposition qui retrace le travail des élèves de l’école d’arts plastiques.\nPeintures et dessins des adultes et enfants.
URL:https://actu.art/event/exposition-de-lassociation-darts-plastiques-de-ouistreham/
LOCATION:Galerie Delobel\, Esplanade Lofi\, Ouistreham\, Calvados\, 14150\, France
CATEGORIES:Expositions Galeries
ATTACH;FMTTYPE=image/jpeg:https://actu.art/wp-content/uploads/2025/05/Exposition_de_l_association_d_arts_plastiques_de_Ouistreham.jpg
GEO:49.288509;-0.2580524
X-APPLE-STRUCTURED-LOCATION;VALUE=URI;X-ADDRESS=Galerie Delobel Esplanade Lofi Ouistreham Calvados 14150 France;X-APPLE-RADIUS=500;X-TITLE=Esplanade Lofi:geo:-0.2580524,49.288509
END:VEVENT
END:VCALENDAR