BEGIN:VCALENDAR
VERSION:2.0
PRODID:-//Actu.Art - ECPv6.15.13//NONSGML v1.0//EN
CALSCALE:GREGORIAN
METHOD:PUBLISH
X-WR-CALNAME:Actu.Art
X-ORIGINAL-URL:https://actu.art
X-WR-CALDESC:Évènements pour Actu.Art
BEGIN:VTIMEZONE
TZID:Europe/Paris
BEGIN:DAYLIGHT
TZOFFSETFROM:+0100
TZOFFSETTO:+0200
TZNAME:CEST
DTSTART:20240331T010000
END:DAYLIGHT
BEGIN:STANDARD
TZOFFSETFROM:+0200
TZOFFSETTO:+0100
TZNAME:CET
DTSTART:20241027T010000
END:STANDARD
BEGIN:DAYLIGHT
TZOFFSETFROM:+0100
TZOFFSETTO:+0200
TZNAME:CEST
DTSTART:20250330T010000
END:DAYLIGHT
BEGIN:STANDARD
TZOFFSETFROM:+0200
TZOFFSETTO:+0100
TZNAME:CET
DTSTART:20251026T010000
END:STANDARD
BEGIN:DAYLIGHT
TZOFFSETFROM:+0100
TZOFFSETTO:+0200
TZNAME:CEST
DTSTART:20260329T010000
END:DAYLIGHT
BEGIN:STANDARD
TZOFFSETFROM:+0200
TZOFFSETTO:+0100
TZNAME:CET
DTSTART:20261025T010000
END:STANDARD
END:VTIMEZONE
BEGIN:VEVENT
DTSTART;VALUE=DATE:20250430
DTEND;VALUE=DATE:20250601
DTSTAMP:20260424T130212
CREATED:20240802T170259Z
LAST-MODIFIED:20241106T205218Z
UID:95652-1745971200-1748735940@actu.art
SUMMARY:Exposition de Claire Brissot
DESCRIPTION:Venez découvrir du 30 avril au 31 mai 2025\, l’exposition de Claire Brissot\, une artiste peintre. \nRegarder un tableau de Claire Brissot est une expérience sensitive étonnante : d’abord\, ce qui frappe la rétine\, ce sont les couleurs franches et vives omniprésentes qui recouvrent l’ensemble du support et occupent tout l’espace en une multitude de motifs\, d’éléments graphiques et d’aplats.   Les œuvres grand format ou encore les triptyques nous plongent ainsi dans un univers intense et bouillonnant dans lequel les couleurs primaires dominent ; les contrastes forts stimulent le regard et créent un effet de découpage-collage.\nDu 30/04 au 31/05/2025   le lundi\, mardi\, mercredi\, jeudi et vendredi de 9h30 à 12h30 et de 13h30 à 17h30. Fermé samedi et dimanche. Vernissage mardi 29 avril à 18h30.
URL:https://actu.art/event/exposition-de-claire-brissot/
LOCATION:FLC\, bâtiment Maison des Associations\, 6 rue du Mont Ussy\, Fontainebleau\, Seine-et-Marne\, 77300\, France
CATEGORIES:Expositions
ATTACH;FMTTYPE=image/jpeg:https://actu.art/wp-content/uploads/2024/08/Exposition_de_Claire_Brissot.jpg
GEO:48.4158977;2.7015999
X-APPLE-STRUCTURED-LOCATION;VALUE=URI;X-ADDRESS=FLC bâtiment Maison des Associations 6 rue du Mont Ussy Fontainebleau Seine-et-Marne 77300 France;X-APPLE-RADIUS=500;X-TITLE=6 rue du Mont Ussy:geo:2.7015999,48.4158977
END:VEVENT
END:VCALENDAR