BEGIN:VCALENDAR
VERSION:2.0
PRODID:-//Actu.Art - ECPv6.15.13//NONSGML v1.0//EN
CALSCALE:GREGORIAN
METHOD:PUBLISH
X-WR-CALNAME:Actu.Art
X-ORIGINAL-URL:https://actu.art
X-WR-CALDESC:Évènements pour Actu.Art
BEGIN:VTIMEZONE
TZID:Europe/Paris
BEGIN:DAYLIGHT
TZOFFSETFROM:+0100
TZOFFSETTO:+0200
TZNAME:CEST
DTSTART:20240331T010000
END:DAYLIGHT
BEGIN:STANDARD
TZOFFSETFROM:+0200
TZOFFSETTO:+0100
TZNAME:CET
DTSTART:20241027T010000
END:STANDARD
BEGIN:DAYLIGHT
TZOFFSETFROM:+0100
TZOFFSETTO:+0200
TZNAME:CEST
DTSTART:20250330T010000
END:DAYLIGHT
BEGIN:STANDARD
TZOFFSETFROM:+0200
TZOFFSETTO:+0100
TZNAME:CET
DTSTART:20251026T010000
END:STANDARD
BEGIN:DAYLIGHT
TZOFFSETFROM:+0100
TZOFFSETTO:+0200
TZNAME:CEST
DTSTART:20260329T010000
END:DAYLIGHT
BEGIN:STANDARD
TZOFFSETFROM:+0200
TZOFFSETTO:+0100
TZNAME:CET
DTSTART:20261025T010000
END:STANDARD
END:VTIMEZONE
BEGIN:VEVENT
DTSTART;TZID=Europe/Paris:20250603T140000
DTEND;TZID=Europe/Paris:20250609T180000
DTSTAMP:20260426T030943
CREATED:20250408T222503Z
LAST-MODIFIED:20250408T222503Z
UID:113633-1748959200-1749492000@actu.art
SUMMARY:Exposition d'arts pluriels
DESCRIPTION:La diversité de styles et de techniques (peinture acrylique\, aquarelle\, dessin\, pastel\, techniques mixtes) témoigne de l’engagement et de la maitrise artistique des élèves\, encadrés par des professeurs\, tous artistes professionnels reconnus.
URL:https://actu.art/event/exposition-darts-pluriels/
LOCATION:Galerie de la Prévôté\, Place des Martyrs de la Résistance\, Aix-en-Provence\, Bouches-du-Rhône\, 13090\, France
CATEGORIES:Expositions Galeries
ATTACH;FMTTYPE=image/jpeg:https://actu.art/wp-content/uploads/2025/04/Exposition_d_arts_pluriels.jpg
GEO:43.5312333;5.4472315
X-APPLE-STRUCTURED-LOCATION;VALUE=URI;X-ADDRESS=Galerie de la Prévôté Place des Martyrs de la Résistance Aix-en-Provence Bouches-du-Rhône 13090 France;X-APPLE-RADIUS=500;X-TITLE=Place des Martyrs de la Résistance:geo:5.4472315,43.5312333
END:VEVENT
END:VCALENDAR