BEGIN:VCALENDAR
VERSION:2.0
PRODID:-//Actu.Art - ECPv6.15.13//NONSGML v1.0//EN
CALSCALE:GREGORIAN
METHOD:PUBLISH
X-WR-CALNAME:Actu.Art
X-ORIGINAL-URL:https://actu.art
X-WR-CALDESC:Évènements pour Actu.Art
BEGIN:VTIMEZONE
TZID:Europe/Paris
BEGIN:DAYLIGHT
TZOFFSETFROM:+0100
TZOFFSETTO:+0200
TZNAME:CEST
DTSTART:20240331T010000
END:DAYLIGHT
BEGIN:STANDARD
TZOFFSETFROM:+0200
TZOFFSETTO:+0100
TZNAME:CET
DTSTART:20241027T010000
END:STANDARD
BEGIN:DAYLIGHT
TZOFFSETFROM:+0100
TZOFFSETTO:+0200
TZNAME:CEST
DTSTART:20250330T010000
END:DAYLIGHT
BEGIN:STANDARD
TZOFFSETFROM:+0200
TZOFFSETTO:+0100
TZNAME:CET
DTSTART:20251026T010000
END:STANDARD
BEGIN:DAYLIGHT
TZOFFSETFROM:+0100
TZOFFSETTO:+0200
TZNAME:CEST
DTSTART:20260329T010000
END:DAYLIGHT
BEGIN:STANDARD
TZOFFSETFROM:+0200
TZOFFSETTO:+0100
TZNAME:CET
DTSTART:20261025T010000
END:STANDARD
BEGIN:DAYLIGHT
TZOFFSETFROM:+0100
TZOFFSETTO:+0200
TZNAME:CEST
DTSTART:20270328T010000
END:DAYLIGHT
BEGIN:STANDARD
TZOFFSETFROM:+0200
TZOFFSETTO:+0100
TZNAME:CET
DTSTART:20271031T010000
END:STANDARD
END:VTIMEZONE
BEGIN:VEVENT
DTSTART;VALUE=DATE:20251219
DTEND;VALUE=DATE:20260103
DTSTAMP:20260424T170040
CREATED:20250303T164345Z
LAST-MODIFIED:20250303T164345Z
UID:109924-1766102400-1767398399@actu.art
SUMMARY:Exposition d’arts « Artistes en Cotentin »
DESCRIPTION:Carentan se met aux couleurs de la palette des peintres et artistes du Cotentin. Pour cette saison\, ce sont plus de 50 artistes (peintres\, sculpteurs…) aux talents multiples qui exposeront près de 200 oeuvres dans des styles où chacun exprime sa personnalité. La première édition a eu lieu en 2006 et continue de rassembler plus de 1000 visiteurs à chaque saison.
URL:https://actu.art/event/exposition-darts-artistes-en-cotentin/
LOCATION:Salle du Haut-Dick\, Carentan\, Carentan-les-Marais\, Manche\, 50500
CATEGORIES:Expositions
END:VEVENT
END:VCALENDAR