BEGIN:VCALENDAR
VERSION:2.0
PRODID:-//Actu.Art - ECPv6.15.13//NONSGML v1.0//EN
CALSCALE:GREGORIAN
METHOD:PUBLISH
X-WR-CALNAME:Actu.Art
X-ORIGINAL-URL:https://actu.art
X-WR-CALDESC:Évènements pour Actu.Art
BEGIN:VTIMEZONE
TZID:Europe/Paris
BEGIN:DAYLIGHT
TZOFFSETFROM:+0100
TZOFFSETTO:+0200
TZNAME:CEST
DTSTART:20250330T010000
END:DAYLIGHT
BEGIN:STANDARD
TZOFFSETFROM:+0200
TZOFFSETTO:+0100
TZNAME:CET
DTSTART:20251026T010000
END:STANDARD
BEGIN:DAYLIGHT
TZOFFSETFROM:+0100
TZOFFSETTO:+0200
TZNAME:CEST
DTSTART:20260329T010000
END:DAYLIGHT
BEGIN:STANDARD
TZOFFSETFROM:+0200
TZOFFSETTO:+0100
TZNAME:CET
DTSTART:20261025T010000
END:STANDARD
BEGIN:DAYLIGHT
TZOFFSETFROM:+0100
TZOFFSETTO:+0200
TZNAME:CEST
DTSTART:20270328T010000
END:DAYLIGHT
BEGIN:STANDARD
TZOFFSETFROM:+0200
TZOFFSETTO:+0100
TZNAME:CET
DTSTART:20271031T010000
END:STANDARD
END:VTIMEZONE
BEGIN:VEVENT
DTSTART;VALUE=DATE:20260131
DTEND;VALUE=DATE:20260202
DTSTAMP:20260424T065718
CREATED:20260130T114921Z
LAST-MODIFIED:20260130T114921Z
UID:137296-1769817600-1769990399@actu.art
SUMMARY:Exposition d’arts
DESCRIPTION:Plus de 40 artistes locaux seront réunis : auteurs en dédicace\, photographes\, peintres\, sculpteurs et créateurs aux univers variés. Un véritable parcours artistique\, accessible à tous\, petits et grands.\nSur place\, un espace gourmand avec crêpes et petite restauration pour prolonger le plaisir. Organisé par le Lions Club de Phalsbourg.\nType de public : Tout public
URL:https://actu.art/event/exposition-darts-3/
LOCATION:Salle Polyvalente de Mittelbronn\, 25 rue de Sarrebourg\, Mittelbronn\, Moselle\, 57370
CATEGORIES:Expositions
ATTACH;FMTTYPE=image/jpeg:https://actu.art/wp-content/uploads/2026/01/Exposition_d_arts.jpg
GEO:48.7670123;7.2261667
X-APPLE-STRUCTURED-LOCATION;VALUE=URI;X-ADDRESS=Salle Polyvalente de Mittelbronn 25 rue de Sarrebourg Mittelbronn Moselle 57370;X-APPLE-RADIUS=500;X-TITLE=25 rue de Sarrebourg:geo:7.2261667,48.7670123
END:VEVENT
END:VCALENDAR