BEGIN:VCALENDAR
VERSION:2.0
PRODID:-//Actu.Art - ECPv6.15.13//NONSGML v1.0//EN
CALSCALE:GREGORIAN
METHOD:PUBLISH
X-WR-CALNAME:Actu.Art
X-ORIGINAL-URL:https://actu.art
X-WR-CALDESC:Évènements pour Actu.Art
BEGIN:VTIMEZONE
TZID:Europe/Paris
BEGIN:DAYLIGHT
TZOFFSETFROM:+0100
TZOFFSETTO:+0200
TZNAME:CEST
DTSTART:20240331T010000
END:DAYLIGHT
BEGIN:STANDARD
TZOFFSETFROM:+0200
TZOFFSETTO:+0100
TZNAME:CET
DTSTART:20241027T010000
END:STANDARD
BEGIN:DAYLIGHT
TZOFFSETFROM:+0100
TZOFFSETTO:+0200
TZNAME:CEST
DTSTART:20250330T010000
END:DAYLIGHT
BEGIN:STANDARD
TZOFFSETFROM:+0200
TZOFFSETTO:+0100
TZNAME:CET
DTSTART:20251026T010000
END:STANDARD
BEGIN:DAYLIGHT
TZOFFSETFROM:+0100
TZOFFSETTO:+0200
TZNAME:CEST
DTSTART:20260329T010000
END:DAYLIGHT
BEGIN:STANDARD
TZOFFSETFROM:+0200
TZOFFSETTO:+0100
TZNAME:CET
DTSTART:20261025T010000
END:STANDARD
END:VTIMEZONE
BEGIN:VEVENT
DTSTART;TZID=Europe/Paris:20250613T180000
DTEND;TZID=Europe/Paris:20250614T180000
DTSTAMP:20260419T141223
CREATED:20250609T200238Z
LAST-MODIFIED:20250609T200238Z
UID:120473-1749837600-1749924000@actu.art
SUMMARY:Exposition d'art des élèves de la classe d’art de Rose Passalboni - Salle A Scena\, MJC Casa pà tutti - Santa Lucia di Portivechju
DESCRIPTION:Exposition d’art des élèves de la classe d’art de Rose Passalboni\nJeudi 13 et vendredi 14 juin\n→ Vernissage le jeudi 13 juin à 18h\nSalle A Scena\, MJC Casa pà tutti – Santa Lucia di Portivechju \nLes élèves de la classe d’art de Rose Passalboni vous présentent le fruit de leur année de création\, d’exploration et d’émotion. Une exposition haute en couleurs et en passion\, à découvrir absolument ! \nEntrée libre – Venez nombreux soutenir ces artistes en devenir ! » \n			 Les élèves de la classe d’art de Rose Passalboni vous présentent le fruit de leur année de création\, d’exploration et d’émotion. Une exposition haute en couleurs et en passion\, à découvrir absolument ! \n			 Entrée libre – Venez nombreux soutenir ces artistes en devenir ! » \n			 Plus d’infos sur le site.
URL:https://actu.art/event/exposition-dart-des-eleves-de-la-classe-dart-de-rose-passalboni-salle-a-scena-mjc-casa-pa-tutti-santa-lucia-di-portivechju/
LOCATION:Salle A Scena\, Sainte Lucie de Porto-Vecchio\, 20144
CATEGORIES:Expositions
ATTACH;FMTTYPE=image/jpeg:https://actu.art/wp-content/uploads/2025/06/Exposition_d_art_des_eleves_de_la_classe_d_art_de_Rose_Passalboni_Salle_A_Scena_MJC_Casa_pa_tutti_Santa_Lucia_di_Portivechju.jpg
GEO:41.6998368;9.3451356
END:VEVENT
END:VCALENDAR