BEGIN:VCALENDAR
VERSION:2.0
PRODID:-//Actu.Art - ECPv6.15.13//NONSGML v1.0//EN
CALSCALE:GREGORIAN
METHOD:PUBLISH
X-WR-CALNAME:Actu.Art
X-ORIGINAL-URL:https://actu.art
X-WR-CALDESC:Évènements pour Actu.Art
BEGIN:VTIMEZONE
TZID:Europe/Paris
BEGIN:DAYLIGHT
TZOFFSETFROM:+0100
TZOFFSETTO:+0200
TZNAME:CEST
DTSTART:20240331T010000
END:DAYLIGHT
BEGIN:STANDARD
TZOFFSETFROM:+0200
TZOFFSETTO:+0100
TZNAME:CET
DTSTART:20241027T010000
END:STANDARD
BEGIN:DAYLIGHT
TZOFFSETFROM:+0100
TZOFFSETTO:+0200
TZNAME:CEST
DTSTART:20250330T010000
END:DAYLIGHT
BEGIN:STANDARD
TZOFFSETFROM:+0200
TZOFFSETTO:+0100
TZNAME:CET
DTSTART:20251026T010000
END:STANDARD
BEGIN:DAYLIGHT
TZOFFSETFROM:+0100
TZOFFSETTO:+0200
TZNAME:CEST
DTSTART:20260329T010000
END:DAYLIGHT
BEGIN:STANDARD
TZOFFSETFROM:+0200
TZOFFSETTO:+0100
TZNAME:CET
DTSTART:20261025T010000
END:STANDARD
END:VTIMEZONE
BEGIN:VEVENT
DTSTART;TZID=Europe/Paris:20250621T100000
DTEND;TZID=Europe/Paris:20250622T180000
DTSTAMP:20260420T144201
CREATED:20250617T111404Z
LAST-MODIFIED:20250617T111404Z
UID:121353-1750500000-1750615200@actu.art
SUMMARY:Exposition d'art
DESCRIPTION:Exposition d’art avec les artistes Yves CHATENET (Photographie)\, Karl BEYRAND (Photographie) et Geoffrey PALLAS (Peinture).\nVernissage le vendredi 20 Juin à 18h30.\nVenez nombreux découvrir les oeuvres de ces artistes.\nAccès handicapé : oui
URL:https://actu.art/event/exposition-dart-10/
LOCATION:Salle des fêtes de Pineuilh\, Place du Général de Gaulle\, Pineuilh\, Gironde\, 33220
CATEGORIES:Expositions
ATTACH;FMTTYPE=image/jpeg:https://actu.art/wp-content/uploads/2025/06/Exposition_d_art-3.jpg
GEO:44.8303044;0.2279582
X-APPLE-STRUCTURED-LOCATION;VALUE=URI;X-ADDRESS=Salle des fêtes de Pineuilh Place du Général de Gaulle Pineuilh Gironde 33220;X-APPLE-RADIUS=500;X-TITLE=Place du Général de Gaulle:geo:0.2279582,44.8303044
END:VEVENT
END:VCALENDAR