BEGIN:VCALENDAR
VERSION:2.0
PRODID:-//Actu.Art - ECPv6.15.13//NONSGML v1.0//EN
CALSCALE:GREGORIAN
METHOD:PUBLISH
X-WR-CALNAME:Actu.Art
X-ORIGINAL-URL:https://actu.art
X-WR-CALDESC:Évènements pour Actu.Art
BEGIN:VTIMEZONE
TZID:Europe/Paris
BEGIN:DAYLIGHT
TZOFFSETFROM:+0100
TZOFFSETTO:+0200
TZNAME:CEST
DTSTART:20240331T010000
END:DAYLIGHT
BEGIN:STANDARD
TZOFFSETFROM:+0200
TZOFFSETTO:+0100
TZNAME:CET
DTSTART:20241027T010000
END:STANDARD
BEGIN:DAYLIGHT
TZOFFSETFROM:+0100
TZOFFSETTO:+0200
TZNAME:CEST
DTSTART:20250330T010000
END:DAYLIGHT
BEGIN:STANDARD
TZOFFSETFROM:+0200
TZOFFSETTO:+0100
TZNAME:CET
DTSTART:20251026T010000
END:STANDARD
BEGIN:DAYLIGHT
TZOFFSETFROM:+0100
TZOFFSETTO:+0200
TZNAME:CEST
DTSTART:20260329T010000
END:DAYLIGHT
BEGIN:STANDARD
TZOFFSETFROM:+0200
TZOFFSETTO:+0100
TZNAME:CET
DTSTART:20261025T010000
END:STANDARD
END:VTIMEZONE
BEGIN:VEVENT
DTSTART;TZID=Europe/Paris:20250530T133000
DTEND;TZID=Europe/Paris:20250615T190000
DTSTAMP:20260426T020105
CREATED:20250530T204203Z
LAST-MODIFIED:20250530T204539Z
UID:119175-1748611800-1750014000@actu.art
SUMMARY:Exposition d'Anne-Marie Gasciolli : œuvres textiles et tableaux papier-collé - Maison du temps libre - Vintisari
DESCRIPTION:Anne-Marie Gasciolli exposera ses œuvres textiles et tableaux papier-collé à la maison du temps libre de Travo du 30 mai au 15 juin 2025.\nVernissage le 30 mai à 18 heures.\nHoraires de l’exposition :\n– Du lundi au vendredi de 13h30 à 19h00\n– Le samedi de 09h00 à 19h00
URL:https://actu.art/event/exposition-danne-marie-gasciolli-oeuvres-textiles-et-tableaux-papier-colle-maison-du-temps-libre-vintisari/
LOCATION:Maison du temps libre\, Travo\, Ventiseri\, Haute-Corse\, 20240
CATEGORIES:Expositions
ATTACH;FMTTYPE=image/jpeg:https://actu.art/wp-content/uploads/2025/05/Exposition_d_Anne_Marie_Gasciolli_uvres_textiles_et_tableaux_papier_colle_Maison_du_temps_libre_Vintisari.jpg
GEO:41.920727;9.385425
X-APPLE-STRUCTURED-LOCATION;VALUE=URI;X-ADDRESS=Maison du temps libre Travo Ventiseri Haute-Corse 20240;X-APPLE-RADIUS=500;X-TITLE=Travo:geo:9.385425,41.920727
END:VEVENT
END:VCALENDAR