BEGIN:VCALENDAR
VERSION:2.0
PRODID:-//Actu.Art - ECPv6.15.13//NONSGML v1.0//EN
CALSCALE:GREGORIAN
METHOD:PUBLISH
X-WR-CALNAME:Actu.Art
X-ORIGINAL-URL:https://actu.art
X-WR-CALDESC:Évènements pour Actu.Art
BEGIN:VTIMEZONE
TZID:Europe/Paris
BEGIN:DAYLIGHT
TZOFFSETFROM:+0100
TZOFFSETTO:+0200
TZNAME:CEST
DTSTART:20240331T010000
END:DAYLIGHT
BEGIN:STANDARD
TZOFFSETFROM:+0200
TZOFFSETTO:+0100
TZNAME:CET
DTSTART:20241027T010000
END:STANDARD
BEGIN:DAYLIGHT
TZOFFSETFROM:+0100
TZOFFSETTO:+0200
TZNAME:CEST
DTSTART:20250330T010000
END:DAYLIGHT
BEGIN:STANDARD
TZOFFSETFROM:+0200
TZOFFSETTO:+0100
TZNAME:CET
DTSTART:20251026T010000
END:STANDARD
BEGIN:DAYLIGHT
TZOFFSETFROM:+0100
TZOFFSETTO:+0200
TZNAME:CEST
DTSTART:20260329T010000
END:DAYLIGHT
BEGIN:STANDARD
TZOFFSETFROM:+0200
TZOFFSETTO:+0100
TZNAME:CET
DTSTART:20261025T010000
END:STANDARD
END:VTIMEZONE
BEGIN:VEVENT
DTSTART;TZID=Europe/Paris:20251105T000000
DTEND;TZID=Europe/Paris:20251128T235900
DTSTAMP:20260424T131012
CREATED:20251118T133237Z
LAST-MODIFIED:20251118T133237Z
UID:133496-1762300800-1764374340@actu.art
SUMMARY:Exposition d’Alain FERRAND : L’art\, est-il politique ?
DESCRIPTION:À travers cette exposition\, l’artiste nous plonge dans une réflexion sur le rôle de l’art face aux pouvoirs et aux images qui façonnent nos opinions. Ses œuvres\, créées en réaction à des événements marquants\, traduisent tour à tour émotions\, questionnements et élans de l’esprit humain : l’amour\, la joie\, la colère ou encore le désir. \nPour Alain Ferrand\, la peinture est avant tout un moyen d’expression libre : une recherche entre esthétique et conscience\, où chaque toile devient un espace de dialogue entre l’artiste et le spectateur. \nBien qu’il se définisse humblement comme un amateur\, l’artiste invite chacun à dépasser la simple observation technique pour laisser place à l’émotion et à la réflexion. Un livret d’accompagnement sera mis à disposition du public pour prolonger cette exploration et ouvrir la discussion sur la place de l’art dans nos sociétés. \nUne exposition à la fois sensible et engagée\, qui questionne notre regard sur le monde et le pouvoir des images. \nUn vernissage est prévu le samedi 8 novembre de 15h à 17h.
URL:https://actu.art/event/exposition-dalain-ferrand-lart-est-il-politique/
LOCATION:Office de Tourisme du Pays Houdanais\, 4 place de la Tour\, au pied du donjon\, Houdan \, Yvelines\, 78550\, France
CATEGORIES:Expositions
ATTACH;FMTTYPE=image/jpeg:https://actu.art/wp-content/uploads/2025/11/Exposition_d_Alain_FERRAND_L_art_est_il_politique_.jpg
GEO:48.789229;1.599244
X-APPLE-STRUCTURED-LOCATION;VALUE=URI;X-ADDRESS=Office de Tourisme du Pays Houdanais 4 place de la Tour au pied du donjon Houdan  Yvelines 78550 France;X-APPLE-RADIUS=500;X-TITLE=4 place de la Tour\, au pied du donjon:geo:1.599244,48.789229
END:VEVENT
END:VCALENDAR