BEGIN:VCALENDAR
VERSION:2.0
PRODID:-//Actu.Art - ECPv6.15.13//NONSGML v1.0//EN
CALSCALE:GREGORIAN
METHOD:PUBLISH
X-WR-CALNAME:Actu.Art
X-ORIGINAL-URL:https://actu.art
X-WR-CALDESC:Évènements pour Actu.Art
BEGIN:VTIMEZONE
TZID:Europe/Paris
BEGIN:DAYLIGHT
TZOFFSETFROM:+0100
TZOFFSETTO:+0200
TZNAME:CEST
DTSTART:20230326T010000
END:DAYLIGHT
BEGIN:STANDARD
TZOFFSETFROM:+0200
TZOFFSETTO:+0100
TZNAME:CET
DTSTART:20231029T010000
END:STANDARD
BEGIN:DAYLIGHT
TZOFFSETFROM:+0100
TZOFFSETTO:+0200
TZNAME:CEST
DTSTART:20240331T010000
END:DAYLIGHT
BEGIN:STANDARD
TZOFFSETFROM:+0200
TZOFFSETTO:+0100
TZNAME:CET
DTSTART:20241027T010000
END:STANDARD
BEGIN:DAYLIGHT
TZOFFSETFROM:+0100
TZOFFSETTO:+0200
TZNAME:CEST
DTSTART:20250330T010000
END:DAYLIGHT
BEGIN:STANDARD
TZOFFSETFROM:+0200
TZOFFSETTO:+0100
TZNAME:CET
DTSTART:20251026T010000
END:STANDARD
END:VTIMEZONE
BEGIN:VEVENT
DTSTART;TZID=Europe/Paris:20240606T100000
DTEND;TZID=Europe/Paris:20241115T180000
DTSTAMP:20260425T022053
CREATED:20240316T200535Z
LAST-MODIFIED:20240316T200535Z
UID:80403-1717668000-1731693600@actu.art
SUMMARY:Exposition d'Adriaan Diedericks
DESCRIPTION:Exposition du sculpteur Adriaan Diedericks\, artiste sud-africain connu pour ses sculptures contemporaines en bronze.
URL:https://actu.art/event/exposition-dadriaan-diedericks/
LOCATION:Éguzon-Chantôme\, 2 Rue de la Gare\, Éguzon-Chantôme\, Indre\, 36270\, France
CATEGORIES:Expositions
GEO:46.4423847;1.5818371
X-APPLE-STRUCTURED-LOCATION;VALUE=URI;X-ADDRESS=Éguzon-Chantôme 2 Rue de la Gare Éguzon-Chantôme Indre 36270 France;X-APPLE-RADIUS=500;X-TITLE=2 Rue de la Gare:geo:1.5818371,46.4423847
END:VEVENT
END:VCALENDAR