BEGIN:VCALENDAR
VERSION:2.0
PRODID:-//Actu.Art - ECPv6.15.13//NONSGML v1.0//EN
CALSCALE:GREGORIAN
METHOD:PUBLISH
X-WR-CALNAME:Actu.Art
X-ORIGINAL-URL:https://actu.art
X-WR-CALDESC:Évènements pour Actu.Art
BEGIN:VTIMEZONE
TZID:Europe/Paris
BEGIN:DAYLIGHT
TZOFFSETFROM:+0100
TZOFFSETTO:+0200
TZNAME:CEST
DTSTART:20230326T010000
END:DAYLIGHT
BEGIN:STANDARD
TZOFFSETFROM:+0200
TZOFFSETTO:+0100
TZNAME:CET
DTSTART:20231029T010000
END:STANDARD
BEGIN:DAYLIGHT
TZOFFSETFROM:+0100
TZOFFSETTO:+0200
TZNAME:CEST
DTSTART:20240331T010000
END:DAYLIGHT
BEGIN:STANDARD
TZOFFSETFROM:+0200
TZOFFSETTO:+0100
TZNAME:CET
DTSTART:20241027T010000
END:STANDARD
BEGIN:DAYLIGHT
TZOFFSETFROM:+0100
TZOFFSETTO:+0200
TZNAME:CEST
DTSTART:20250330T010000
END:DAYLIGHT
BEGIN:STANDARD
TZOFFSETFROM:+0200
TZOFFSETTO:+0100
TZNAME:CET
DTSTART:20251026T010000
END:STANDARD
END:VTIMEZONE
BEGIN:VEVENT
DTSTART;VALUE=DATE:20240601
DTEND;VALUE=DATE:20241201
DTSTAMP:20260425T033500
CREATED:20240601T175510Z
LAST-MODIFIED:20241106T205240Z
UID:87230-1717200000-1733011140@actu.art
SUMMARY:Exposition D. Leverve\, artiste semuroise singulière
DESCRIPTION:Exposition sur D. Leverve (1854-1939)\, artiste semuroise et singulière qui travaillait en autodidacte sur le bois et l’argile de façon très minutieuse. Il s’agit de la première rétrospective des oeuvres de cette artiste « art brut » avant l’heure. Oeuvres animalières ou religieuses\, inspiration des cartes postales de l’époque\, D. Leverve nous offre de magnifiques oeuvres à admirer.\nDu 01/06/2024 au 30/11/2024\, du mercredi au vendredi de 14h à 18h et samedi de 9h à 12h et de 14h à 18h
URL:https://actu.art/event/exposition-d-leverve-artiste-semuroise-singuliere/
LOCATION:Musée municipal de Semur-en-Auxois\, rue Jean-Jacques Collenot\, Semur-en-Auxois\, Côte-d'Or\, 21140\, France
CATEGORIES:Expositions
GEO:47.490222;4.33683
X-APPLE-STRUCTURED-LOCATION;VALUE=URI;X-ADDRESS=Musée municipal de Semur-en-Auxois rue Jean-Jacques Collenot Semur-en-Auxois Côte-d'Or 21140 France;X-APPLE-RADIUS=500;X-TITLE=rue Jean-Jacques Collenot:geo:4.33683,47.490222
END:VEVENT
END:VCALENDAR