BEGIN:VCALENDAR
VERSION:2.0
PRODID:-//Actu.Art - ECPv6.15.13//NONSGML v1.0//EN
CALSCALE:GREGORIAN
METHOD:PUBLISH
X-WR-CALNAME:Actu.Art
X-ORIGINAL-URL:https://actu.art
X-WR-CALDESC:Évènements pour Actu.Art
BEGIN:VTIMEZONE
TZID:Europe/Paris
BEGIN:DAYLIGHT
TZOFFSETFROM:+0100
TZOFFSETTO:+0200
TZNAME:CEST
DTSTART:20250330T010000
END:DAYLIGHT
BEGIN:STANDARD
TZOFFSETFROM:+0200
TZOFFSETTO:+0100
TZNAME:CET
DTSTART:20251026T010000
END:STANDARD
BEGIN:DAYLIGHT
TZOFFSETFROM:+0100
TZOFFSETTO:+0200
TZNAME:CEST
DTSTART:20260329T010000
END:DAYLIGHT
BEGIN:STANDARD
TZOFFSETFROM:+0200
TZOFFSETTO:+0100
TZNAME:CET
DTSTART:20261025T010000
END:STANDARD
BEGIN:DAYLIGHT
TZOFFSETFROM:+0100
TZOFFSETTO:+0200
TZNAME:CEST
DTSTART:20270328T010000
END:DAYLIGHT
BEGIN:STANDARD
TZOFFSETFROM:+0200
TZOFFSETTO:+0100
TZNAME:CET
DTSTART:20271031T010000
END:STANDARD
END:VTIMEZONE
BEGIN:VEVENT
DTSTART;TZID=Europe/Paris:20260903T150000
DTEND;TZID=Europe/Paris:20260927T190000
DTSTAMP:20260421T193925
CREATED:20260215T205417Z
LAST-MODIFIED:20260215T205417Z
UID:138616-1788447600-1790535600@actu.art
SUMMARY:Exposition  D. Delajot et E. Mengual "Empreintes et Paysages "
DESCRIPTION:Hommage à George Sand dans la salle d’exposition temporaire: Peinture acrylique  et  gommes bichromatées (procédé photographique non argentique utilisé dans la 2ème partie du XIXe siècle).
URL:https://actu.art/event/exposition-d-delajot-et-e-mengual-empreintes-et-paysages/
LOCATION:Maison musée Léon Detroy\, 33 Rue du Père Moreau\, Gargilesse-Dampierre\, Indre\, 36190
CATEGORIES:Expositions
ATTACH;FMTTYPE=image/jpeg:https://actu.art/wp-content/uploads/2026/02/Exposition_D_Delajot_et_E_Mengual_Empreintes_et_Paysages_.jpg
GEO:46.5136793;1.5974451
X-APPLE-STRUCTURED-LOCATION;VALUE=URI;X-ADDRESS=Maison musée Léon Detroy 33 Rue du Père Moreau Gargilesse-Dampierre Indre 36190;X-APPLE-RADIUS=500;X-TITLE=33 Rue du Père Moreau:geo:1.5974451,46.5136793
END:VEVENT
END:VCALENDAR