BEGIN:VCALENDAR
VERSION:2.0
PRODID:-//Actu.Art - ECPv6.15.13//NONSGML v1.0//EN
CALSCALE:GREGORIAN
METHOD:PUBLISH
X-WR-CALNAME:Actu.Art
X-ORIGINAL-URL:https://actu.art
X-WR-CALDESC:Évènements pour Actu.Art
BEGIN:VTIMEZONE
TZID:Europe/Paris
BEGIN:DAYLIGHT
TZOFFSETFROM:+0100
TZOFFSETTO:+0200
TZNAME:CEST
DTSTART:20230326T010000
END:DAYLIGHT
BEGIN:STANDARD
TZOFFSETFROM:+0200
TZOFFSETTO:+0100
TZNAME:CET
DTSTART:20231029T010000
END:STANDARD
BEGIN:DAYLIGHT
TZOFFSETFROM:+0100
TZOFFSETTO:+0200
TZNAME:CEST
DTSTART:20240331T010000
END:DAYLIGHT
BEGIN:STANDARD
TZOFFSETFROM:+0200
TZOFFSETTO:+0100
TZNAME:CET
DTSTART:20241027T010000
END:STANDARD
BEGIN:DAYLIGHT
TZOFFSETFROM:+0100
TZOFFSETTO:+0200
TZNAME:CEST
DTSTART:20250330T010000
END:DAYLIGHT
BEGIN:STANDARD
TZOFFSETFROM:+0200
TZOFFSETTO:+0100
TZNAME:CET
DTSTART:20251026T010000
END:STANDARD
END:VTIMEZONE
BEGIN:VEVENT
DTSTART;TZID=Europe/Paris:20240918T153000
DTEND;TZID=Europe/Paris:20241110T130000
DTSTAMP:20260424T032057
CREATED:20240923T204555Z
LAST-MODIFIED:20240923T204555Z
UID:99257-1726673400-1731243600@actu.art
SUMMARY:Exposition Collective « Perspectives »
DESCRIPTION:1ère expo de la saison : \nExposition Collective « Perspectives » \nArtistes présentés :\nEmmanuelle Baroth / Joey Brusquet / Christine Caupin / Eric Douane / Marc Feist / Diane Hioco / Bertrand Namur / Anne Poitrenaud / Anne Christine Wellenstein \nGalerie Berthe & Edgar – Chatou (78)\n6 place sainte Marie 78400 Chatou\ndu 18 septembre au 10 novembre \nVernissage : Jeudi 26 septembre 18h-21h\nFinissage : Jeudi 17 octobre\nmercredi\, jeudi\, vendredi : 15h30-19h30\nsamedi : 10h-13h et 15h30- 19h30\ndimanche : 10h- 13h
URL:https://actu.art/event/exposition-collective-perspectives/
LOCATION:Galerie Berthe et Edgar\, 6 Place Sainte-Marie\, Chatou\, Yvelines\, 78400\, France
CATEGORIES:Expositions
ATTACH;FMTTYPE=image/jpeg:https://actu.art/wp-content/uploads/2024/09/Exposition_Collective_Perspectives_.jpg
GEO:48.8894808;2.1601654
X-APPLE-STRUCTURED-LOCATION;VALUE=URI;X-ADDRESS=Galerie Berthe et Edgar 6 Place Sainte-Marie Chatou Yvelines 78400 France;X-APPLE-RADIUS=500;X-TITLE=6 Place Sainte-Marie:geo:2.1601654,48.8894808
END:VEVENT
END:VCALENDAR