BEGIN:VCALENDAR
VERSION:2.0
PRODID:-//Actu.Art - ECPv6.15.13//NONSGML v1.0//EN
CALSCALE:GREGORIAN
METHOD:PUBLISH
X-WR-CALNAME:Actu.Art
X-ORIGINAL-URL:https://actu.art
X-WR-CALDESC:Évènements pour Actu.Art
BEGIN:VTIMEZONE
TZID:Europe/Paris
BEGIN:DAYLIGHT
TZOFFSETFROM:+0100
TZOFFSETTO:+0200
TZNAME:CEST
DTSTART:20230326T010000
END:DAYLIGHT
BEGIN:STANDARD
TZOFFSETFROM:+0200
TZOFFSETTO:+0100
TZNAME:CET
DTSTART:20231029T010000
END:STANDARD
BEGIN:DAYLIGHT
TZOFFSETFROM:+0100
TZOFFSETTO:+0200
TZNAME:CEST
DTSTART:20240331T010000
END:DAYLIGHT
BEGIN:STANDARD
TZOFFSETFROM:+0200
TZOFFSETTO:+0100
TZNAME:CET
DTSTART:20241027T010000
END:STANDARD
BEGIN:DAYLIGHT
TZOFFSETFROM:+0100
TZOFFSETTO:+0200
TZNAME:CEST
DTSTART:20250330T010000
END:DAYLIGHT
BEGIN:STANDARD
TZOFFSETFROM:+0200
TZOFFSETTO:+0100
TZNAME:CET
DTSTART:20251026T010000
END:STANDARD
END:VTIMEZONE
BEGIN:VEVENT
DTSTART;TZID=Europe/Paris:20241101T100000
DTEND;TZID=Europe/Paris:20241104T180000
DTSTAMP:20260420T144146
CREATED:20241010T123755Z
LAST-MODIFIED:20241010T123755Z
UID:100403-1730455200-1730743200@actu.art
SUMMARY:Exposition Collective
DESCRIPTION:30 artistes exposeront leurs oeuvres durant 4 jours\, peintures\, dessins\, aquarelles\, photographies\, sculptures\, etc …
URL:https://actu.art/event/exposition-collective-17/
LOCATION:Le Posterlou (Ancienne Poste)\, La Grande Rue 390\, La Motte-Chalancon\, Drôme\, 26470\, France
CATEGORIES:Expositions
ATTACH;FMTTYPE=image/jpeg:https://actu.art/wp-content/uploads/2024/10/Exposition_Collective.jpg
GEO:44.4842264;5.3781814
X-APPLE-STRUCTURED-LOCATION;VALUE=URI;X-ADDRESS=Le Posterlou (Ancienne Poste) La Grande Rue 390 La Motte-Chalancon Drôme 26470 France;X-APPLE-RADIUS=500;X-TITLE=La Grande Rue 390:geo:5.3781814,44.4842264
END:VEVENT
END:VCALENDAR