BEGIN:VCALENDAR
VERSION:2.0
PRODID:-//Actu.Art - ECPv6.15.13//NONSGML v1.0//EN
CALSCALE:GREGORIAN
METHOD:PUBLISH
X-WR-CALNAME:Actu.Art
X-ORIGINAL-URL:https://actu.art
X-WR-CALDESC:Évènements pour Actu.Art
BEGIN:VTIMEZONE
TZID:Europe/Paris
BEGIN:DAYLIGHT
TZOFFSETFROM:+0100
TZOFFSETTO:+0200
TZNAME:CEST
DTSTART:20250330T010000
END:DAYLIGHT
BEGIN:STANDARD
TZOFFSETFROM:+0200
TZOFFSETTO:+0100
TZNAME:CET
DTSTART:20251026T010000
END:STANDARD
BEGIN:DAYLIGHT
TZOFFSETFROM:+0100
TZOFFSETTO:+0200
TZNAME:CEST
DTSTART:20260329T010000
END:DAYLIGHT
BEGIN:STANDARD
TZOFFSETFROM:+0200
TZOFFSETTO:+0100
TZNAME:CET
DTSTART:20261025T010000
END:STANDARD
BEGIN:DAYLIGHT
TZOFFSETFROM:+0100
TZOFFSETTO:+0200
TZNAME:CEST
DTSTART:20270328T010000
END:DAYLIGHT
BEGIN:STANDARD
TZOFFSETFROM:+0200
TZOFFSETTO:+0100
TZNAME:CET
DTSTART:20271031T010000
END:STANDARD
END:VTIMEZONE
BEGIN:VEVENT
DTSTART;TZID=Europe/Paris:20260424T100000
DTEND;TZID=Europe/Paris:20260507T193000
DTSTAMP:20260426T030419
CREATED:20260414T204948Z
LAST-MODIFIED:20260414T204948Z
UID:143349-1777024800-1778182200@actu.art
SUMMARY:Exposition : Claire V FURIC\, Peinture Sculpture
DESCRIPTION:Claire VINCENT FURIC expose ses oeuvres à la galerie les Amis des Arts\, 26 cours Mirabeau.
URL:https://actu.art/event/exposition-claire-v-furic-peinture-sculpture/
LOCATION:Les Amis des Arts\, 26 Cours Mirabeau\, Aix-en-Provence\, Bouches-du-Rhône\, 13100\, France
CATEGORIES:Expositions
ATTACH;FMTTYPE=image/jpeg:https://actu.art/wp-content/uploads/2026/04/Exposition_Claire_V_FURIC_Peinture_Sculpture.jpg
GEO:43.5265833;5.4490909
X-APPLE-STRUCTURED-LOCATION;VALUE=URI;X-ADDRESS=Les Amis des Arts 26 Cours Mirabeau Aix-en-Provence Bouches-du-Rhône 13100 France;X-APPLE-RADIUS=500;X-TITLE=26 Cours Mirabeau:geo:5.4490909,43.5265833
END:VEVENT
END:VCALENDAR