BEGIN:VCALENDAR
VERSION:2.0
PRODID:-//Actu.Art - ECPv6.15.13//NONSGML v1.0//EN
CALSCALE:GREGORIAN
METHOD:PUBLISH
X-WR-CALNAME:Actu.Art
X-ORIGINAL-URL:https://actu.art
X-WR-CALDESC:Évènements pour Actu.Art
BEGIN:VTIMEZONE
TZID:Europe/Paris
BEGIN:DAYLIGHT
TZOFFSETFROM:+0100
TZOFFSETTO:+0200
TZNAME:CEST
DTSTART:20230326T010000
END:DAYLIGHT
BEGIN:STANDARD
TZOFFSETFROM:+0200
TZOFFSETTO:+0100
TZNAME:CET
DTSTART:20231029T010000
END:STANDARD
BEGIN:DAYLIGHT
TZOFFSETFROM:+0100
TZOFFSETTO:+0200
TZNAME:CEST
DTSTART:20240331T010000
END:DAYLIGHT
BEGIN:STANDARD
TZOFFSETFROM:+0200
TZOFFSETTO:+0100
TZNAME:CET
DTSTART:20241027T010000
END:STANDARD
BEGIN:DAYLIGHT
TZOFFSETFROM:+0100
TZOFFSETTO:+0200
TZNAME:CEST
DTSTART:20250330T010000
END:DAYLIGHT
BEGIN:STANDARD
TZOFFSETFROM:+0200
TZOFFSETTO:+0100
TZNAME:CET
DTSTART:20251026T010000
END:STANDARD
BEGIN:DAYLIGHT
TZOFFSETFROM:+0100
TZOFFSETTO:+0200
TZNAME:CEST
DTSTART:20260329T010000
END:DAYLIGHT
BEGIN:STANDARD
TZOFFSETFROM:+0200
TZOFFSETTO:+0100
TZNAME:CET
DTSTART:20261025T010000
END:STANDARD
END:VTIMEZONE
BEGIN:VEVENT
DTSTART;TZID=Europe/Paris:20241203T090000
DTEND;TZID=Europe/Paris:20250106T170000
DTSTAMP:20260420T183757
CREATED:20241127T140651Z
LAST-MODIFIED:20241127T140651Z
UID:105101-1733216400-1736182800@actu.art
SUMMARY:Exposition Chris Bados
DESCRIPTION:EXPOSITION à L’HERBERIE
URL:https://actu.art/event/exposition-chris-bados/
LOCATION:Centre d’animation de l’herberie\, 6 Bis\, Boulevard Saint-Michel\, Coulaines\, Sarthe\, 72190\, France
CATEGORIES:Expositions
ATTACH;FMTTYPE=image/jpeg:https://actu.art/wp-content/uploads/2024/11/Exposition_Chris_Bados.jpg
GEO:48.0236194;0.2013991
X-APPLE-STRUCTURED-LOCATION;VALUE=URI;X-ADDRESS=Centre d’animation de l’herberie 6 Bis Boulevard Saint-Michel Coulaines Sarthe 72190 France;X-APPLE-RADIUS=500;X-TITLE=6 Bis\, Boulevard Saint-Michel:geo:0.2013991,48.0236194
END:VEVENT
END:VCALENDAR