BEGIN:VCALENDAR
VERSION:2.0
PRODID:-//Actu.Art - ECPv6.15.13//NONSGML v1.0//EN
CALSCALE:GREGORIAN
METHOD:PUBLISH
X-WR-CALNAME:Actu.Art
X-ORIGINAL-URL:https://actu.art
X-WR-CALDESC:Évènements pour Actu.Art
BEGIN:VTIMEZONE
TZID:Europe/Paris
BEGIN:DAYLIGHT
TZOFFSETFROM:+0100
TZOFFSETTO:+0200
TZNAME:CEST
DTSTART:20240331T010000
END:DAYLIGHT
BEGIN:STANDARD
TZOFFSETFROM:+0200
TZOFFSETTO:+0100
TZNAME:CET
DTSTART:20241027T010000
END:STANDARD
BEGIN:DAYLIGHT
TZOFFSETFROM:+0100
TZOFFSETTO:+0200
TZNAME:CEST
DTSTART:20250330T010000
END:DAYLIGHT
BEGIN:STANDARD
TZOFFSETFROM:+0200
TZOFFSETTO:+0100
TZNAME:CET
DTSTART:20251026T010000
END:STANDARD
BEGIN:DAYLIGHT
TZOFFSETFROM:+0100
TZOFFSETTO:+0200
TZNAME:CEST
DTSTART:20260329T010000
END:DAYLIGHT
BEGIN:STANDARD
TZOFFSETFROM:+0200
TZOFFSETTO:+0100
TZNAME:CET
DTSTART:20261025T010000
END:STANDARD
END:VTIMEZONE
BEGIN:VEVENT
DTSTART;TZID=Europe/Paris:20250808T110000
DTEND;TZID=Europe/Paris:20250817T190000
DTSTAMP:20260424T225208
CREATED:20250602T204028Z
LAST-MODIFIED:20250602T204028Z
UID:119982-1754650800-1755457200@actu.art
SUMMARY:Exposition Céramiques
DESCRIPTION:Expo de Marie Delafosse et Estelle Robert . Notre portera autour de la sculpture et du carreau : habiller l’autel\, créer de grands formats de carreaux de céramiques illustrés\, à plusieurs mains.
URL:https://actu.art/event/exposition-ceramiques/
LOCATION:Chapelle Sainte Lucie\, Le Village\, Mirmande\, Drôme\, 26270\, France
CATEGORIES:Expositions
GEO:44.699431;4.8352259
X-APPLE-STRUCTURED-LOCATION;VALUE=URI;X-ADDRESS=Chapelle Sainte Lucie Le Village Mirmande Drôme 26270 France;X-APPLE-RADIUS=500;X-TITLE=Le Village:geo:4.8352259,44.699431
END:VEVENT
END:VCALENDAR