BEGIN:VCALENDAR
VERSION:2.0
PRODID:-//Actu.Art - ECPv6.15.13//NONSGML v1.0//EN
CALSCALE:GREGORIAN
METHOD:PUBLISH
X-WR-CALNAME:Actu.Art
X-ORIGINAL-URL:https://actu.art
X-WR-CALDESC:Évènements pour Actu.Art
BEGIN:VTIMEZONE
TZID:Europe/Paris
BEGIN:DAYLIGHT
TZOFFSETFROM:+0100
TZOFFSETTO:+0200
TZNAME:CEST
DTSTART:20230326T010000
END:DAYLIGHT
BEGIN:STANDARD
TZOFFSETFROM:+0200
TZOFFSETTO:+0100
TZNAME:CET
DTSTART:20231029T010000
END:STANDARD
BEGIN:DAYLIGHT
TZOFFSETFROM:+0100
TZOFFSETTO:+0200
TZNAME:CEST
DTSTART:20240331T010000
END:DAYLIGHT
BEGIN:STANDARD
TZOFFSETFROM:+0200
TZOFFSETTO:+0100
TZNAME:CET
DTSTART:20241027T010000
END:STANDARD
BEGIN:DAYLIGHT
TZOFFSETFROM:+0100
TZOFFSETTO:+0200
TZNAME:CEST
DTSTART:20250330T010000
END:DAYLIGHT
BEGIN:STANDARD
TZOFFSETFROM:+0200
TZOFFSETTO:+0100
TZNAME:CET
DTSTART:20251026T010000
END:STANDARD
END:VTIMEZONE
BEGIN:VEVENT
DTSTART;TZID=Europe/Paris:20240918T100000
DTEND;TZID=Europe/Paris:20241018T180000
DTSTAMP:20260423T232458
CREATED:20240905T214145Z
LAST-MODIFIED:20240905T214145Z
UID:98026-1726653600-1729274400@actu.art
SUMMARY:Exposition : Camille Pozzo Di Borgo - La Citadelle - Aiacciu
DESCRIPTION:Exposition : Camille Pozzo Di Borgo \nDu 18 Septembre au 18 Octobre \nLa Poudrière  (Citadelle) – Aiacciu \nArtiste visuelle\, dessinatrice et graveuse\, née à Ajaccio\, elle vit et travaille à Paris. Diplomée en 2017\, Camille Pozzo di Borgo a grandi à Ajaccio. Elle y a développé une passion précoce pour l’animalité et la nature qui l’entourent\, observant la faune sauvage sous toutes ses formes en récoltant de petits squelettes d’animaux. Elle intègre l’Ecole Nationale Supérieure des Beaux-Arts de Paris\, en 2012\, dans l’atelier de Philippe Cognée puis de Tim Eitel\, elle en sort diplômée en décembre 2017. Aujourd’hui\, son travail s’articule autour de l’anatomie animale et humaine par l’intermédiaire du procédé de gravure en taille douce. Elle disséque ses sujets par l’intermédiaire du dessin et de techniques d’impression de gravure en taille douce. Se superposent\, sur une seule image\, différentes temporalités et différentes strates intérieures et extérieures de corps humains ou animaux. Les éclatements qui en résultent dévoilent des instants de bestialité pure. Ces superpositions de geste apportent un nouveau degré d’abstraction par la déformation de la bête. A partir de ces animaux exotiques\, elle invente de nouvelles chimères. \n			 Chair\, fleur de peau\, fourrures et textures: Camille grave des surfaces\, des zones de contact peaux animales qu’elle viendra appliquer sur la feuille de papier pour y laisser des empreintes. Empreintes plurielles\, puisque Camille travaille par superpositions\, surimpressions\, mise en contact de plusieurs gravures comme de plusieurs peaux. \nMise à l’épreuve des images entre elles donc Tantôt chaque gravure représente un état de l’animal pris dans son déplacement (balancier du singe dans la canopée\, envol du rapaсе); tantôt les gravures représentent des animaux différents qui entrent en conflit. Comme si leur rencontre forcée sur le même papier ouvrait les hostilités. Ce ne sont pas des dessins mais des épreuves.
URL:https://actu.art/event/exposition-camille-pozzo-di-borgo-la-citadelle-aiacciu/
LOCATION:Citadelle Miollis\, boulevard Danielle Casanova\, Ajaccio\, Corse-du-Sud\, 20000\, France
CATEGORIES:Expositions
ATTACH;FMTTYPE=image/jpeg:https://actu.art/wp-content/uploads/2024/09/Exposition_Camille_Pozzo_Di_Borgo_La_Citadelle_Aiacciu.jpg
GEO:41.9171266;8.739056
X-APPLE-STRUCTURED-LOCATION;VALUE=URI;X-ADDRESS=Citadelle Miollis boulevard Danielle Casanova Ajaccio Corse-du-Sud 20000 France;X-APPLE-RADIUS=500;X-TITLE=boulevard Danielle Casanova:geo:8.739056,41.9171266
END:VEVENT
END:VCALENDAR