BEGIN:VCALENDAR
VERSION:2.0
PRODID:-//Actu.Art - ECPv6.15.13//NONSGML v1.0//EN
CALSCALE:GREGORIAN
METHOD:PUBLISH
X-WR-CALNAME:Actu.Art
X-ORIGINAL-URL:https://actu.art
X-WR-CALDESC:Évènements pour Actu.Art
BEGIN:VTIMEZONE
TZID:Europe/Paris
BEGIN:DAYLIGHT
TZOFFSETFROM:+0100
TZOFFSETTO:+0200
TZNAME:CEST
DTSTART:20230326T010000
END:DAYLIGHT
BEGIN:STANDARD
TZOFFSETFROM:+0200
TZOFFSETTO:+0100
TZNAME:CET
DTSTART:20231029T010000
END:STANDARD
BEGIN:DAYLIGHT
TZOFFSETFROM:+0100
TZOFFSETTO:+0200
TZNAME:CEST
DTSTART:20240331T010000
END:DAYLIGHT
BEGIN:STANDARD
TZOFFSETFROM:+0200
TZOFFSETTO:+0100
TZNAME:CET
DTSTART:20241027T010000
END:STANDARD
BEGIN:DAYLIGHT
TZOFFSETFROM:+0100
TZOFFSETTO:+0200
TZNAME:CEST
DTSTART:20250330T010000
END:DAYLIGHT
BEGIN:STANDARD
TZOFFSETFROM:+0200
TZOFFSETTO:+0100
TZNAME:CET
DTSTART:20251026T010000
END:STANDARD
END:VTIMEZONE
BEGIN:VEVENT
DTSTART;TZID=Europe/Paris:20240329T110000
DTEND;TZID=Europe/Paris:20241101T190000
DTSTAMP:20260423T191450
CREATED:20240426T191935Z
LAST-MODIFIED:20240503T184522Z
UID:83848-1711710000-1730487600@actu.art
SUMMARY:Exposition : « Bestiaire » par PATI
DESCRIPTION:Venez découvrir les nombreuses œuvres animalières de l’artiste PATI à la Galerie Espace 87 à Giverny. \nSculpteur à Nice\, PATI montre un bestiaire jamais vraiment académique\, parfois hiératique\, toujours avec une intonation en clin d’œil\, conférant à l’animal une attitude\, un caractère à la manière de Buffon ou de La Fontaine.  \nInformations pratiques :\n– Ouvert tous les jours de 11h à 19\n– Du 29 mars au 1er novembre\n– 06 10 77 58 04
URL:https://actu.art/event/exposition-bestiaire-par-pati/
LOCATION:Galerie Espace 87\, Rue Claude Monet 87\, Giverny\, Eure\, 27620\, France
CATEGORIES:Expositions Galeries
ATTACH;FMTTYPE=image/webp:https://actu.art/wp-content/uploads/2024/05/Exposition_Bestiaire_par_PATI.webp
GEO:49.0766871;1.5288323
X-APPLE-STRUCTURED-LOCATION;VALUE=URI;X-ADDRESS=Galerie Espace 87 Rue Claude Monet 87 Giverny Eure 27620 France;X-APPLE-RADIUS=500;X-TITLE=Rue Claude Monet 87:geo:1.5288323,49.0766871
END:VEVENT
END:VCALENDAR