BEGIN:VCALENDAR
VERSION:2.0
PRODID:-//Actu.Art - ECPv6.15.13//NONSGML v1.0//EN
CALSCALE:GREGORIAN
METHOD:PUBLISH
X-WR-CALNAME:Actu.Art
X-ORIGINAL-URL:https://actu.art
X-WR-CALDESC:Évènements pour Actu.Art
BEGIN:VTIMEZONE
TZID:Europe/Paris
BEGIN:DAYLIGHT
TZOFFSETFROM:+0100
TZOFFSETTO:+0200
TZNAME:CEST
DTSTART:20230326T010000
END:DAYLIGHT
BEGIN:STANDARD
TZOFFSETFROM:+0200
TZOFFSETTO:+0100
TZNAME:CET
DTSTART:20231029T010000
END:STANDARD
BEGIN:DAYLIGHT
TZOFFSETFROM:+0100
TZOFFSETTO:+0200
TZNAME:CEST
DTSTART:20240331T010000
END:DAYLIGHT
BEGIN:STANDARD
TZOFFSETFROM:+0200
TZOFFSETTO:+0100
TZNAME:CET
DTSTART:20241027T010000
END:STANDARD
BEGIN:DAYLIGHT
TZOFFSETFROM:+0100
TZOFFSETTO:+0200
TZNAME:CEST
DTSTART:20250330T010000
END:DAYLIGHT
BEGIN:STANDARD
TZOFFSETFROM:+0200
TZOFFSETTO:+0100
TZNAME:CET
DTSTART:20251026T010000
END:STANDARD
END:VTIMEZONE
BEGIN:VEVENT
DTSTART;TZID=Europe/Paris:20241101T160000
DTEND;TZID=Europe/Paris:20241103T190000
DTSTAMP:20260422T203957
CREATED:20241021T183208Z
LAST-MODIFIED:20241021T183208Z
UID:101154-1730476800-1730660400@actu.art
SUMMARY:Exposition : Aventures Maritimes
DESCRIPTION:Exposition de dessins sur le thème marin par Antoine Leclercq.
URL:https://actu.art/event/exposition-aventures-maritimes/
LOCATION:Boutique Au Fil de l’Aumance\, Rue Cacheloup 11\, Hérisson\, Allier\, 03190\, France
CATEGORIES:Événements Artistiques locaux
GEO:46.5098868;2.7134574
X-APPLE-STRUCTURED-LOCATION;VALUE=URI;X-ADDRESS=Boutique Au Fil de l’Aumance Rue Cacheloup 11 Hérisson Allier 03190 France;X-APPLE-RADIUS=500;X-TITLE=Rue Cacheloup 11:geo:2.7134574,46.5098868
END:VEVENT
END:VCALENDAR