BEGIN:VCALENDAR
VERSION:2.0
PRODID:-//Actu.Art - ECPv6.15.13//NONSGML v1.0//EN
CALSCALE:GREGORIAN
METHOD:PUBLISH
X-WR-CALNAME:Actu.Art
X-ORIGINAL-URL:https://actu.art
X-WR-CALDESC:Évènements pour Actu.Art
BEGIN:VTIMEZONE
TZID:Europe/Paris
BEGIN:DAYLIGHT
TZOFFSETFROM:+0100
TZOFFSETTO:+0200
TZNAME:CEST
DTSTART:20230326T010000
END:DAYLIGHT
BEGIN:STANDARD
TZOFFSETFROM:+0200
TZOFFSETTO:+0100
TZNAME:CET
DTSTART:20231029T010000
END:STANDARD
BEGIN:DAYLIGHT
TZOFFSETFROM:+0100
TZOFFSETTO:+0200
TZNAME:CEST
DTSTART:20240331T010000
END:DAYLIGHT
BEGIN:STANDARD
TZOFFSETFROM:+0200
TZOFFSETTO:+0100
TZNAME:CET
DTSTART:20241027T010000
END:STANDARD
BEGIN:DAYLIGHT
TZOFFSETFROM:+0100
TZOFFSETTO:+0200
TZNAME:CEST
DTSTART:20250330T010000
END:DAYLIGHT
BEGIN:STANDARD
TZOFFSETFROM:+0200
TZOFFSETTO:+0100
TZNAME:CET
DTSTART:20251026T010000
END:STANDARD
BEGIN:DAYLIGHT
TZOFFSETFROM:+0100
TZOFFSETTO:+0200
TZNAME:CEST
DTSTART:20260329T010000
END:DAYLIGHT
BEGIN:STANDARD
TZOFFSETFROM:+0200
TZOFFSETTO:+0100
TZNAME:CET
DTSTART:20261025T010000
END:STANDARD
END:VTIMEZONE
BEGIN:VEVENT
DTSTART;TZID=Europe/Paris:20241203T000000
DTEND;TZID=Europe/Paris:20250105T235900
DTSTAMP:20260420T195851
CREATED:20241217T220103Z
LAST-MODIFIED:20241217T220103Z
UID:107110-1733184000-1736121540@actu.art
SUMMARY:Exposition "Au jardin"
DESCRIPTION:Viviane Risser est artiste peintre installée en Chartreuse. Ses thèmes de prédilection sont la nature et les paysages. Pour cette exposition à l’office du tourisme de Saint-Pierre d’Entremont\, elle a choisi le thème du jardin. Les aquarelles de fleurs et légumes du jardin sont réalisées en technique humide qui permet\, par la fusion des couleurs\, de restituer la complexité des formes végétales.\nViviane Risser donne également des cours de dessin et d’aquarelle sur Grenoble et Voiron.
URL:https://actu.art/event/exposition-au-jardin/
LOCATION:Office du tourisme de Saint-Pierre-d’Entremont\, Saint-Pierre-d'Entremont\, Savoie\, 73670\, France
CATEGORIES:Expositions
ATTACH;FMTTYPE=image/jpeg:https://actu.art/wp-content/uploads/2024/12/Exposition_Au_jardin_.jpg
GEO:45.421429;5.8770579
END:VEVENT
END:VCALENDAR