BEGIN:VCALENDAR
VERSION:2.0
PRODID:-//Actu.Art - ECPv6.15.13//NONSGML v1.0//EN
CALSCALE:GREGORIAN
METHOD:PUBLISH
X-WR-CALNAME:Actu.Art
X-ORIGINAL-URL:https://actu.art
X-WR-CALDESC:Évènements pour Actu.Art
BEGIN:VTIMEZONE
TZID:Europe/Paris
BEGIN:DAYLIGHT
TZOFFSETFROM:+0100
TZOFFSETTO:+0200
TZNAME:CEST
DTSTART:20250330T010000
END:DAYLIGHT
BEGIN:STANDARD
TZOFFSETFROM:+0200
TZOFFSETTO:+0100
TZNAME:CET
DTSTART:20251026T010000
END:STANDARD
BEGIN:DAYLIGHT
TZOFFSETFROM:+0100
TZOFFSETTO:+0200
TZNAME:CEST
DTSTART:20260329T010000
END:DAYLIGHT
BEGIN:STANDARD
TZOFFSETFROM:+0200
TZOFFSETTO:+0100
TZNAME:CET
DTSTART:20261025T010000
END:STANDARD
BEGIN:DAYLIGHT
TZOFFSETFROM:+0100
TZOFFSETTO:+0200
TZNAME:CEST
DTSTART:20270328T010000
END:DAYLIGHT
BEGIN:STANDARD
TZOFFSETFROM:+0200
TZOFFSETTO:+0100
TZNAME:CET
DTSTART:20271031T010000
END:STANDARD
END:VTIMEZONE
BEGIN:VEVENT
DTSTART;TZID=Europe/Paris:20260508T100000
DTEND;TZID=Europe/Paris:20260517T190000
DTSTAMP:20260422T215239
CREATED:20260215T203502Z
LAST-MODIFIED:20260215T203502Z
UID:138600-1778234400-1779044400@actu.art
SUMMARY:Exposition • Atelier Mermet
DESCRIPTION:L’atelier Mermet organise son exposition annuelle du 8 au 17 mai 2026 à l’Espace Chambon. Les membres de l’Atelier présenteront leurs œuvres réalisées au cours de l’année en peinture et sculpture.
URL:https://actu.art/event/exposition-atelier-mermet/
LOCATION:Espace Chambon\, 2 rue du faubourg du Chambon\, Cusset\, Allier\, 03300\, France
CATEGORIES:Expositions
GEO:46.1310268;3.4593083
X-APPLE-STRUCTURED-LOCATION;VALUE=URI;X-ADDRESS=Espace Chambon 2 rue du faubourg du Chambon Cusset Allier 03300 France;X-APPLE-RADIUS=500;X-TITLE=2 rue du faubourg du Chambon:geo:3.4593083,46.1310268
END:VEVENT
END:VCALENDAR