BEGIN:VCALENDAR
VERSION:2.0
PRODID:-//Actu.Art - ECPv6.15.13//NONSGML v1.0//EN
CALSCALE:GREGORIAN
METHOD:PUBLISH
X-WR-CALNAME:Actu.Art
X-ORIGINAL-URL:https://actu.art
X-WR-CALDESC:Évènements pour Actu.Art
BEGIN:VTIMEZONE
TZID:Europe/Paris
BEGIN:DAYLIGHT
TZOFFSETFROM:+0100
TZOFFSETTO:+0200
TZNAME:CEST
DTSTART:20240331T010000
END:DAYLIGHT
BEGIN:STANDARD
TZOFFSETFROM:+0200
TZOFFSETTO:+0100
TZNAME:CET
DTSTART:20241027T010000
END:STANDARD
BEGIN:DAYLIGHT
TZOFFSETFROM:+0100
TZOFFSETTO:+0200
TZNAME:CEST
DTSTART:20250330T010000
END:DAYLIGHT
BEGIN:STANDARD
TZOFFSETFROM:+0200
TZOFFSETTO:+0100
TZNAME:CET
DTSTART:20251026T010000
END:STANDARD
BEGIN:DAYLIGHT
TZOFFSETFROM:+0100
TZOFFSETTO:+0200
TZNAME:CEST
DTSTART:20260329T010000
END:DAYLIGHT
BEGIN:STANDARD
TZOFFSETFROM:+0200
TZOFFSETTO:+0100
TZNAME:CET
DTSTART:20261025T010000
END:STANDARD
END:VTIMEZONE
BEGIN:VEVENT
DTSTART;TZID=Europe/Paris:20250505T173000
DTEND;TZID=Europe/Paris:20250518T190000
DTSTAMP:20260424T090304
CREATED:20250407T135829Z
LAST-MODIFIED:20250407T135829Z
UID:113556-1746466200-1747594800@actu.art
SUMMARY:Exposition artistique : "Vivre les oiseaux !"
DESCRIPTION:Vivre les oiseaux !\nQuand l’ordinaire devient extraordinaire !\nCette exposition de peintures à l’huile et d’aquarelles met à l’honneur les oiseaux de notre quotidien.
URL:https://actu.art/event/exposition-artistique-vivre-les-oiseaux/
LOCATION:Maison du Gardien\, Parc Jouvet\, Valence\, Drôme\, 26000\, France
CATEGORIES:Expositions
ATTACH;FMTTYPE=image/jpeg:https://actu.art/wp-content/uploads/2025/04/Exposition_artistique_Vivre_les_oiseaux_.jpg
GEO:44.9297021;4.8861651
X-APPLE-STRUCTURED-LOCATION;VALUE=URI;X-ADDRESS=Maison du Gardien Parc Jouvet Valence Drôme 26000 France;X-APPLE-RADIUS=500;X-TITLE=Parc Jouvet:geo:4.8861651,44.9297021
END:VEVENT
END:VCALENDAR