BEGIN:VCALENDAR
VERSION:2.0
PRODID:-//Actu.Art - ECPv6.15.13//NONSGML v1.0//EN
CALSCALE:GREGORIAN
METHOD:PUBLISH
X-WR-CALNAME:Actu.Art
X-ORIGINAL-URL:https://actu.art
X-WR-CALDESC:Évènements pour Actu.Art
BEGIN:VTIMEZONE
TZID:Europe/Paris
BEGIN:DAYLIGHT
TZOFFSETFROM:+0100
TZOFFSETTO:+0200
TZNAME:CEST
DTSTART:20250330T010000
END:DAYLIGHT
BEGIN:STANDARD
TZOFFSETFROM:+0200
TZOFFSETTO:+0100
TZNAME:CET
DTSTART:20251026T010000
END:STANDARD
BEGIN:DAYLIGHT
TZOFFSETFROM:+0100
TZOFFSETTO:+0200
TZNAME:CEST
DTSTART:20260329T010000
END:DAYLIGHT
BEGIN:STANDARD
TZOFFSETFROM:+0200
TZOFFSETTO:+0100
TZNAME:CET
DTSTART:20261025T010000
END:STANDARD
BEGIN:DAYLIGHT
TZOFFSETFROM:+0100
TZOFFSETTO:+0200
TZNAME:CEST
DTSTART:20270328T010000
END:DAYLIGHT
BEGIN:STANDARD
TZOFFSETFROM:+0200
TZOFFSETTO:+0100
TZNAME:CET
DTSTART:20271031T010000
END:STANDARD
END:VTIMEZONE
BEGIN:VEVENT
DTSTART;TZID=Europe/Paris:20260206T100000
DTEND;TZID=Europe/Paris:20260430T170000
DTSTAMP:20260419T192403
CREATED:20260224T193515Z
LAST-MODIFIED:20260224T193515Z
UID:138997-1770372000-1777568400@actu.art
SUMMARY:Exposition - Arthur Hell
DESCRIPTION:La Fondation Solange Bertrand est ravie de vous présenter l’exposition de l’artiste plasticien contemporain Arthur Hell.  \nVernissage le 05 février 2026 à partir de 18H30. \nNous vous invitons à y venir pour explorer la tension entre sacré et profane\, innocence et perversion\, beauté et destruction. L’univers de l’artiste est à la fois provocateur\, conceptuel et profondément symbolique\, mêlant peinture\, sculpture et installation. Il interroge les masques moraux de la société contemporaine et la violence cachée derrière les icônes populaires. \nOn vous attend nombreux ! \nPossibilité de visiter sur rendez-vous.
URL:https://actu.art/event/exposition-arthur-hell/
LOCATION:Fondation Solange Bertrand\, Place de la Carrière 13\, Nancy\, Meurthe-et-Moselle\, 54000\, France
CATEGORIES:Expositions Galeries
ATTACH;FMTTYPE=image/jpeg:https://actu.art/wp-content/uploads/2026/02/Exposition_Arthur_Hell.jpg
GEO:48.6949458;6.1818093
X-APPLE-STRUCTURED-LOCATION;VALUE=URI;X-ADDRESS=Fondation Solange Bertrand Place de la Carrière 13 Nancy Meurthe-et-Moselle 54000 France;X-APPLE-RADIUS=500;X-TITLE=Place de la Carrière 13:geo:6.1818093,48.6949458
END:VEVENT
END:VCALENDAR