BEGIN:VCALENDAR
VERSION:2.0
PRODID:-//Actu.Art - ECPv6.15.13//NONSGML v1.0//EN
CALSCALE:GREGORIAN
METHOD:PUBLISH
X-WR-CALNAME:Actu.Art
X-ORIGINAL-URL:https://actu.art
X-WR-CALDESC:Évènements pour Actu.Art
BEGIN:VTIMEZONE
TZID:Europe/Paris
BEGIN:DAYLIGHT
TZOFFSETFROM:+0100
TZOFFSETTO:+0200
TZNAME:CEST
DTSTART:20240331T010000
END:DAYLIGHT
BEGIN:STANDARD
TZOFFSETFROM:+0200
TZOFFSETTO:+0100
TZNAME:CET
DTSTART:20241027T010000
END:STANDARD
BEGIN:DAYLIGHT
TZOFFSETFROM:+0100
TZOFFSETTO:+0200
TZNAME:CEST
DTSTART:20250330T010000
END:DAYLIGHT
BEGIN:STANDARD
TZOFFSETFROM:+0200
TZOFFSETTO:+0100
TZNAME:CET
DTSTART:20251026T010000
END:STANDARD
BEGIN:DAYLIGHT
TZOFFSETFROM:+0100
TZOFFSETTO:+0200
TZNAME:CEST
DTSTART:20260329T010000
END:DAYLIGHT
BEGIN:STANDARD
TZOFFSETFROM:+0200
TZOFFSETTO:+0100
TZNAME:CET
DTSTART:20261025T010000
END:STANDARD
END:VTIMEZONE
BEGIN:VEVENT
DTSTART;VALUE=DATE:20250801
DTEND;VALUE=DATE:20250929
DTSTAMP:20260419T181048
CREATED:20250915T115309Z
LAST-MODIFIED:20250915T115309Z
UID:128688-1754006400-1759103999@actu.art
SUMMARY:Exposition Art Contemporain « Les grands espaces »
DESCRIPTION:Exposition collective « Les grands espaces » inspirée par la résidence d’artiste de Gwenn Mérel avec les oeuvres de Hervé Beurel\, François Dilasser\, Gwenn Mérel\, Eric TAbuchi et Nelly Monnier\, Pascal Rivet et Stefan Sehler.
URL:https://actu.art/event/exposition-art-contemporain-les-grands-espaces/
LOCATION:Chapelle de la Congrégation\, Rue de la Mairie 4\, Peillac\, Morbihan\, 56220\, France
CATEGORIES:Expositions
ATTACH;FMTTYPE=image/jpeg:https://actu.art/wp-content/uploads/2025/09/Exposition_Art_Contemporain_Les_grands_espaces_.jpg
GEO:47.7133418;-2.2198481
X-APPLE-STRUCTURED-LOCATION;VALUE=URI;X-ADDRESS=Chapelle de la Congrégation Rue de la Mairie 4 Peillac Morbihan 56220 France;X-APPLE-RADIUS=500;X-TITLE=Rue de la Mairie 4:geo:-2.2198481,47.7133418
END:VEVENT
END:VCALENDAR