BEGIN:VCALENDAR
VERSION:2.0
PRODID:-//Actu.Art - ECPv6.15.13//NONSGML v1.0//EN
CALSCALE:GREGORIAN
METHOD:PUBLISH
X-WR-CALNAME:Actu.Art
X-ORIGINAL-URL:https://actu.art
X-WR-CALDESC:Évènements pour Actu.Art
BEGIN:VTIMEZONE
TZID:Europe/Paris
BEGIN:DAYLIGHT
TZOFFSETFROM:+0100
TZOFFSETTO:+0200
TZNAME:CEST
DTSTART:20230326T010000
END:DAYLIGHT
BEGIN:STANDARD
TZOFFSETFROM:+0200
TZOFFSETTO:+0100
TZNAME:CET
DTSTART:20231029T010000
END:STANDARD
BEGIN:DAYLIGHT
TZOFFSETFROM:+0100
TZOFFSETTO:+0200
TZNAME:CEST
DTSTART:20240331T010000
END:DAYLIGHT
BEGIN:STANDARD
TZOFFSETFROM:+0200
TZOFFSETTO:+0100
TZNAME:CET
DTSTART:20241027T010000
END:STANDARD
BEGIN:DAYLIGHT
TZOFFSETFROM:+0100
TZOFFSETTO:+0200
TZNAME:CEST
DTSTART:20250330T010000
END:DAYLIGHT
BEGIN:STANDARD
TZOFFSETFROM:+0200
TZOFFSETTO:+0100
TZNAME:CET
DTSTART:20251026T010000
END:STANDARD
BEGIN:DAYLIGHT
TZOFFSETFROM:+0100
TZOFFSETTO:+0200
TZNAME:CEST
DTSTART:20260329T010000
END:DAYLIGHT
BEGIN:STANDARD
TZOFFSETFROM:+0200
TZOFFSETTO:+0100
TZNAME:CET
DTSTART:20261025T010000
END:STANDARD
END:VTIMEZONE
BEGIN:VEVENT
DTSTART;VALUE=DATE:20241101
DTEND;VALUE=DATE:20250201
DTSTAMP:20260422T190601
CREATED:20241004T192424Z
LAST-MODIFIED:20241106T204915Z
UID:99797-1730419200-1738367940@actu.art
SUMMARY:Exposition – Argile
DESCRIPTION:L’Atelier des Arts Plastiques de Royan présente l’exposition « Argile » des élèves d’Hélène Collignon dans deux vitrines.
URL:https://actu.art/event/exposition-argile/
LOCATION:Conservatoire de Musique\, Rue des Arts 1\, Royan\, Charente-Maritime\, 17200\, France
CATEGORIES:Expositions
ATTACH;FMTTYPE=image/jpeg:https://actu.art/wp-content/uploads/2024/10/Exposition_Argile.jpg
GEO:45.621269;-1.0020684
X-APPLE-STRUCTURED-LOCATION;VALUE=URI;X-ADDRESS=Conservatoire de Musique Rue des Arts 1 Royan Charente-Maritime 17200 France;X-APPLE-RADIUS=500;X-TITLE=Rue des Arts 1:geo:-1.0020684,45.621269
END:VEVENT
END:VCALENDAR