BEGIN:VCALENDAR
VERSION:2.0
PRODID:-//Actu.Art - ECPv6.15.13//NONSGML v1.0//EN
CALSCALE:GREGORIAN
METHOD:PUBLISH
X-WR-CALNAME:Actu.Art
X-ORIGINAL-URL:https://actu.art
X-WR-CALDESC:Évènements pour Actu.Art
BEGIN:VTIMEZONE
TZID:Europe/Paris
BEGIN:DAYLIGHT
TZOFFSETFROM:+0100
TZOFFSETTO:+0200
TZNAME:CEST
DTSTART:20240331T010000
END:DAYLIGHT
BEGIN:STANDARD
TZOFFSETFROM:+0200
TZOFFSETTO:+0100
TZNAME:CET
DTSTART:20241027T010000
END:STANDARD
BEGIN:DAYLIGHT
TZOFFSETFROM:+0100
TZOFFSETTO:+0200
TZNAME:CEST
DTSTART:20250330T010000
END:DAYLIGHT
BEGIN:STANDARD
TZOFFSETFROM:+0200
TZOFFSETTO:+0100
TZNAME:CET
DTSTART:20251026T010000
END:STANDARD
BEGIN:DAYLIGHT
TZOFFSETFROM:+0100
TZOFFSETTO:+0200
TZNAME:CEST
DTSTART:20260329T010000
END:DAYLIGHT
BEGIN:STANDARD
TZOFFSETFROM:+0200
TZOFFSETTO:+0100
TZNAME:CET
DTSTART:20261025T010000
END:STANDARD
END:VTIMEZONE
BEGIN:VEVENT
DTSTART;TZID=Europe/Paris:20250602T103000
DTEND;TZID=Europe/Paris:20250608T190000
DTSTAMP:20260420T183937
CREATED:20250401T201823Z
LAST-MODIFIED:20250401T201823Z
UID:113170-1748860200-1749409200@actu.art
SUMMARY:Exposition Arcane- Olivier Lecourtois  "Humanités"
DESCRIPTION:Exposition de deux artistes plasticiens « Humanités »\nAracane \, peintre bretonne de la région de Quimper\, travaille ses toiles sur le thême de l’humain.\nOlivier Lecourtois continue à développer ses « foules » et autres arborescenes généalogiques. \nVernissage le mardi 2 juin à partir de 18H00. \nAccueil tous les jours pas les artistes.
URL:https://actu.art/event/exposition-arcane-olivier-lecourtois-humanites/
LOCATION:Place des Casernes\, Salle du Jardin du Roc\, entrée par le jardin... rue du nord\, Granville\, Manche\, 50400
CATEGORIES:Expositions
ATTACH;FMTTYPE=image/jpeg:https://actu.art/wp-content/uploads/2025/04/Exposition_Arcane_Olivier_Lecourtois_Humanites_.jpg
END:VEVENT
END:VCALENDAR