BEGIN:VCALENDAR
VERSION:2.0
PRODID:-//Actu.Art - ECPv6.15.13//NONSGML v1.0//EN
CALSCALE:GREGORIAN
METHOD:PUBLISH
X-WR-CALNAME:Actu.Art
X-ORIGINAL-URL:https://actu.art
X-WR-CALDESC:Évènements pour Actu.Art
BEGIN:VTIMEZONE
TZID:Europe/Paris
BEGIN:DAYLIGHT
TZOFFSETFROM:+0100
TZOFFSETTO:+0200
TZNAME:CEST
DTSTART:20240331T010000
END:DAYLIGHT
BEGIN:STANDARD
TZOFFSETFROM:+0200
TZOFFSETTO:+0100
TZNAME:CET
DTSTART:20241027T010000
END:STANDARD
BEGIN:DAYLIGHT
TZOFFSETFROM:+0100
TZOFFSETTO:+0200
TZNAME:CEST
DTSTART:20250330T010000
END:DAYLIGHT
BEGIN:STANDARD
TZOFFSETFROM:+0200
TZOFFSETTO:+0100
TZNAME:CET
DTSTART:20251026T010000
END:STANDARD
BEGIN:DAYLIGHT
TZOFFSETFROM:+0100
TZOFFSETTO:+0200
TZNAME:CEST
DTSTART:20260329T010000
END:DAYLIGHT
BEGIN:STANDARD
TZOFFSETFROM:+0200
TZOFFSETTO:+0100
TZNAME:CET
DTSTART:20261025T010000
END:STANDARD
END:VTIMEZONE
BEGIN:VEVENT
DTSTART;TZID=Europe/Paris:20250701T100000
DTEND;TZID=Europe/Paris:20250831T190000
DTSTAMP:20260420T183835
CREATED:20250723T222004Z
LAST-MODIFIED:20250723T222004Z
UID:124732-1751364000-1756666800@actu.art
SUMMARY:Exposition Ako Wilson
DESCRIPTION:Venez découvrir l’exposition d’Ako Wilson : vernissage le 12 juillet à 11h Source : Office de Tourisme Intercommunal du Pays de Serres en Quercy
URL:https://actu.art/event/exposition-ako-wilson/
LOCATION:Art Points de Vue\, 6 Rue de la Barbacane\, Lauzerte\, Tarn-et-Garonne\, 82110\, France
CATEGORIES:Expositions
ATTACH;FMTTYPE=image/jpeg:https://actu.art/wp-content/uploads/2025/07/Exposition_Ako_Wilson.jpg
GEO:44.256397;1.1392939
X-APPLE-STRUCTURED-LOCATION;VALUE=URI;X-ADDRESS=Art Points de Vue 6 Rue de la Barbacane Lauzerte Tarn-et-Garonne 82110 France;X-APPLE-RADIUS=500;X-TITLE=6 Rue de la Barbacane:geo:1.1392939,44.256397
END:VEVENT
END:VCALENDAR