BEGIN:VCALENDAR
VERSION:2.0
PRODID:-//Actu.Art - ECPv6.15.13//NONSGML v1.0//EN
CALSCALE:GREGORIAN
METHOD:PUBLISH
X-WR-CALNAME:Actu.Art
X-ORIGINAL-URL:https://actu.art
X-WR-CALDESC:Évènements pour Actu.Art
BEGIN:VTIMEZONE
TZID:Europe/Paris
BEGIN:DAYLIGHT
TZOFFSETFROM:+0100
TZOFFSETTO:+0200
TZNAME:CEST
DTSTART:20240331T010000
END:DAYLIGHT
BEGIN:STANDARD
TZOFFSETFROM:+0200
TZOFFSETTO:+0100
TZNAME:CET
DTSTART:20241027T010000
END:STANDARD
BEGIN:DAYLIGHT
TZOFFSETFROM:+0100
TZOFFSETTO:+0200
TZNAME:CEST
DTSTART:20250330T010000
END:DAYLIGHT
BEGIN:STANDARD
TZOFFSETFROM:+0200
TZOFFSETTO:+0100
TZNAME:CET
DTSTART:20251026T010000
END:STANDARD
BEGIN:DAYLIGHT
TZOFFSETFROM:+0100
TZOFFSETTO:+0200
TZNAME:CEST
DTSTART:20260329T010000
END:DAYLIGHT
BEGIN:STANDARD
TZOFFSETFROM:+0200
TZOFFSETTO:+0100
TZNAME:CET
DTSTART:20261025T010000
END:STANDARD
END:VTIMEZONE
BEGIN:VEVENT
DTSTART;TZID=Europe/Paris:20250403T190000
DTEND;TZID=Europe/Paris:20250601T200000
DTSTAMP:20260422T224951
CREATED:20250302T215150Z
LAST-MODIFIED:20250302T215150Z
UID:110380-1743706800-1748808000@actu.art
SUMMARY:Exposition "Accords et Dissonances" en partenariat avec le FRAC Corsica - Palais Fesch - Aiacciu
DESCRIPTION:Exposition « Accords et Dissonances » en partenariat avec le FRAC Corsica \nDu 3 avril au 1er juin  \nVernissage jeudi 3 avril à 18h00 \nPalais Fesch – Musée des beaux-arts – Aiacciu \n« Accords et Dissonances »  \nPrésentation d’une partie de la collection photographique du FRAC Corsica au sein des tableaux du Palais Fesch.  \nLES PHOTOS DU FRAC FACE AUX PEINTURES DU PALAIS FESCH \nL’exposition Accords et dissonances offre une rencontre inédite entre deux collections d’art majeures : la photographie contemporaine du Fonds régional d’art contemporain (FRAC) de Corse et les chefs-d’œuvre classiques du Palais Fesch\, Musée des Beaux-Arts d’Ajaccio. Ce dialogue audacieux s’inscrit dans les espaces du musée\, mêlant temporalités et disciplines pour créer des correspondances\, des contrastes et des frictions stimulantes.   \nLoin de rejouer une opposition stérile entre les classiques et les modernes\, cette exposition propose une relecture enrichie de l’histoire de l’art. Elle révèle les ponts formels\, conceptuels et symboliques qui traversent les siècles\, tout en assumant les discontinuités et les ruptures. En parcourant les salles\, les visiteurs découvriront des juxtapositions saisissantes\, telles que la cuillère monumentale de Patrick Tosani\, intitulée L\, exposée dans la salle des grands formats. \nNée de la révolution industrielle\, la photographie a longtemps lutté pour sa reconnaissance comme médium artistique. Ici\, elle ne se confronte pas aux peintures du Palais Fesch pour affirmer sa légitimité\, mais s’y épanouit pleinement. Les œuvres photographiques\, soigneusement intégrées à l’accrochage permanent\, résonnent avec les peintures en créant des accords visuels et des jeux de sens qui enrichissent la lecture de chaque œuvre.   \nLe Palais Fesch affirme ainsi une vision dynamique de l’histoire de l’art\, où chaque époque dialogue avec les autres dans une continuité marquée par des accélérations\, des contradictions et des éclats. En accueillant la collection du FRAC\, il propose une traversée ludique où les regards se croisent et où l’histoire se réinvente\, offrant aux visiteurs une expérience à la fois érudite et poétique.   \nLe caractère parfois saillant des rapprochements entre les œuvres joue sur la surprise et l’humour. En prenant de vitesse l’esprit\, ces confrontations instaurent un décalage qui fonctionne comme un trait d’ironie ou d’impertinence. Le musée – espace de la légitimité culturelle et du sérieux historique – devient ainsi un environnement où l’art contemporain joue parfois les intrus malicieux et cherche à surprendre le visiteur tout en offrant un véritable jeu de pistes. \nCette exposition temporaire vous invite à reconsidérer la richesse et la complexité de l’histoire des images\, tout en célébrant l’énergie créatrice de l’art contemporain.
URL:https://actu.art/event/exposition-accords-et-dissonances-en-partenariat-avec-le-frac-corsica-palais-fesch-aiacciu/
LOCATION:Musée Fesch\, 50-52\, rue Cardinal Fesch\, Ajaccio\, Corse\, 20000\, France
CATEGORIES:Expositions
ATTACH;FMTTYPE=image/jpeg:https://actu.art/wp-content/uploads/2025/03/Exposition_Accords_et_Dissonances_en_partenariat_avec_le_FRAC_Corsica_Palais_Fesch_Aiacciu.jpg
GEO:41.9222227;8.7385095
X-APPLE-STRUCTURED-LOCATION;VALUE=URI;X-ADDRESS=Musée Fesch 50-52 rue Cardinal Fesch Ajaccio Corse 20000 France;X-APPLE-RADIUS=500;X-TITLE=50-52\, rue Cardinal Fesch:geo:8.7385095,41.9222227
END:VEVENT
END:VCALENDAR