BEGIN:VCALENDAR
VERSION:2.0
PRODID:-//Actu.Art - ECPv6.15.13//NONSGML v1.0//EN
CALSCALE:GREGORIAN
METHOD:PUBLISH
X-WR-CALNAME:Actu.Art
X-ORIGINAL-URL:https://actu.art
X-WR-CALDESC:Évènements pour Actu.Art
BEGIN:VTIMEZONE
TZID:Europe/Paris
BEGIN:DAYLIGHT
TZOFFSETFROM:+0100
TZOFFSETTO:+0200
TZNAME:CEST
DTSTART:20240331T010000
END:DAYLIGHT
BEGIN:STANDARD
TZOFFSETFROM:+0200
TZOFFSETTO:+0100
TZNAME:CET
DTSTART:20241027T010000
END:STANDARD
BEGIN:DAYLIGHT
TZOFFSETFROM:+0100
TZOFFSETTO:+0200
TZNAME:CEST
DTSTART:20250330T010000
END:DAYLIGHT
BEGIN:STANDARD
TZOFFSETFROM:+0200
TZOFFSETTO:+0100
TZNAME:CET
DTSTART:20251026T010000
END:STANDARD
BEGIN:DAYLIGHT
TZOFFSETFROM:+0100
TZOFFSETTO:+0200
TZNAME:CEST
DTSTART:20260329T010000
END:DAYLIGHT
BEGIN:STANDARD
TZOFFSETFROM:+0200
TZOFFSETTO:+0100
TZNAME:CET
DTSTART:20261025T010000
END:STANDARD
END:VTIMEZONE
BEGIN:VEVENT
DTSTART;TZID=Europe/Paris:20250801T143000
DTEND;TZID=Europe/Paris:20250810T183000
DTSTAMP:20260424T033453
CREATED:20250425T130757Z
LAST-MODIFIED:20250425T130757Z
UID:115835-1754058600-1754850600@actu.art
SUMMARY:Exposition "Abstraction poétique"
DESCRIPTION:Proposée par Jacques Grange pour les peintures et sa compagne Elfriede Mach pour les peintures et sculptures. Organisée par les Amis du Passé.
URL:https://actu.art/event/exposition-abstraction-poetique/
LOCATION:Prieuré – Salle Alain Thouret\, Rue du Prieuré\, Saint-Germain-des-Fossés\, Allier\, 03260\, France
CATEGORIES:Expositions
ATTACH;FMTTYPE=image/jpeg:https://actu.art/wp-content/uploads/2025/04/Exposition_Abstraction_poetique_.jpg
GEO:46.1971775;3.4347432
X-APPLE-STRUCTURED-LOCATION;VALUE=URI;X-ADDRESS=Prieuré – Salle Alain Thouret Rue du Prieuré Saint-Germain-des-Fossés Allier 03260 France;X-APPLE-RADIUS=500;X-TITLE=Rue du Prieuré:geo:3.4347432,46.1971775
END:VEVENT
END:VCALENDAR