BEGIN:VCALENDAR
VERSION:2.0
PRODID:-//Actu.Art - ECPv6.15.13//NONSGML v1.0//EN
CALSCALE:GREGORIAN
METHOD:PUBLISH
X-WR-CALNAME:Actu.Art
X-ORIGINAL-URL:https://actu.art
X-WR-CALDESC:Évènements pour Actu.Art
BEGIN:VTIMEZONE
TZID:Europe/Paris
BEGIN:DAYLIGHT
TZOFFSETFROM:+0100
TZOFFSETTO:+0200
TZNAME:CEST
DTSTART:20250330T010000
END:DAYLIGHT
BEGIN:STANDARD
TZOFFSETFROM:+0200
TZOFFSETTO:+0100
TZNAME:CET
DTSTART:20251026T010000
END:STANDARD
BEGIN:DAYLIGHT
TZOFFSETFROM:+0100
TZOFFSETTO:+0200
TZNAME:CEST
DTSTART:20260329T010000
END:DAYLIGHT
BEGIN:STANDARD
TZOFFSETFROM:+0200
TZOFFSETTO:+0100
TZNAME:CET
DTSTART:20261025T010000
END:STANDARD
BEGIN:DAYLIGHT
TZOFFSETFROM:+0100
TZOFFSETTO:+0200
TZNAME:CEST
DTSTART:20270328T010000
END:DAYLIGHT
BEGIN:STANDARD
TZOFFSETFROM:+0200
TZOFFSETTO:+0100
TZNAME:CET
DTSTART:20271031T010000
END:STANDARD
END:VTIMEZONE
BEGIN:VEVENT
DTSTART;TZID=Europe/Paris:20260422T000000
DTEND;TZID=Europe/Paris:20260523T000000
DTSTAMP:20260422T173008
CREATED:20260421T194426Z
LAST-MODIFIED:20260421T194426Z
UID:144083-1776816000-1779494400@actu.art
SUMMARY:Exposition à l'Arrosoir Figeac :  Valérie Tonnellier et Grégory Zanotti
DESCRIPTION:Venez découvrir la nouvelle exposition des artistes Valérie Tonnellier et Grégory Zanotti !Valérie Tonnellier\, artiste née à Paris en 1967\, elle vit et travaille à Cuq-Toulza (Tarn). Son travail mêle collage\, peinture à l’huile et pastel gras. À partir d’images anciennes collectées dans des journaux\, elle crée des compositions instinctives inspirées du dadaïsme et du surréalisme\, où humour\, ironie et contrastes se rencontrent. Ses œuvres explorent les tensions entre passé\, présent et futur\, illusion et réalité\, pour offrir une vision mouvante et expressive du monde contemporain…\nGrégory Zanotti\, né à Nice en 1971\, vit et travaille aujourd’hui dans le Lauragais. Formé aux écoles d’art de Nice et Toulouse\, il a également enseigné le dessin et la peinture pendant de nombreuses années. Après le dessin\, la peinture et la gravure sur bois\, il développe désormais un travail centré sur la terre. Inspiré par les maîtres anciens\, il revisite portraits et œuvres emblématiques en les déconstruisant et recomposant. Son exposition met en lumière le pastel sec et la céramique peinte et émaillée\, utilisée comme un véritable médium artistique.
URL:https://actu.art/event/exposition-a-larrosoir-figeac-valerie-tonnellier-et-gregory-zanotti/
LOCATION:Salle Balène\, Rue Balène\, Figeac\, Lot\, 46100\, France
CATEGORIES:Expositions
ATTACH;FMTTYPE=image/jpeg:https://actu.art/wp-content/uploads/2026/04/Exposition_a_l_Arrosoir_Figeac_Valerie_Tonnellier_et_Gregory_Zanotti.jpg
GEO:44.6075498;2.0333318
X-APPLE-STRUCTURED-LOCATION;VALUE=URI;X-ADDRESS=Salle Balène Rue Balène Figeac Lot 46100 France;X-APPLE-RADIUS=500;X-TITLE=Rue Balène:geo:2.0333318,44.6075498
END:VEVENT
END:VCALENDAR