BEGIN:VCALENDAR
VERSION:2.0
PRODID:-//Actu.Art - ECPv6.15.13//NONSGML v1.0//EN
CALSCALE:GREGORIAN
METHOD:PUBLISH
X-WR-CALNAME:Actu.Art
X-ORIGINAL-URL:https://actu.art
X-WR-CALDESC:Évènements pour Actu.Art
BEGIN:VTIMEZONE
TZID:Europe/Paris
BEGIN:DAYLIGHT
TZOFFSETFROM:+0100
TZOFFSETTO:+0200
TZNAME:CEST
DTSTART:20250330T010000
END:DAYLIGHT
BEGIN:STANDARD
TZOFFSETFROM:+0200
TZOFFSETTO:+0100
TZNAME:CET
DTSTART:20251026T010000
END:STANDARD
BEGIN:DAYLIGHT
TZOFFSETFROM:+0100
TZOFFSETTO:+0200
TZNAME:CEST
DTSTART:20260329T010000
END:DAYLIGHT
BEGIN:STANDARD
TZOFFSETFROM:+0200
TZOFFSETTO:+0100
TZNAME:CET
DTSTART:20261025T010000
END:STANDARD
BEGIN:DAYLIGHT
TZOFFSETFROM:+0100
TZOFFSETTO:+0200
TZNAME:CEST
DTSTART:20270328T010000
END:DAYLIGHT
BEGIN:STANDARD
TZOFFSETFROM:+0200
TZOFFSETTO:+0100
TZNAME:CET
DTSTART:20271031T010000
END:STANDARD
END:VTIMEZONE
BEGIN:VEVENT
DTSTART;VALUE=DATE:20260307
DTEND;VALUE=DATE:20260628
DTSTAMP:20260424T122958
CREATED:20260305T160314Z
LAST-MODIFIED:20260305T160314Z
UID:139645-1772841600-1782604799@actu.art
SUMMARY:Exposition à la Galerie Réjane Louin : « Couleur de lumière »
DESCRIPTION:Venez découvrir la nouvelle exposition à la galerie Réjane Louin.\nDécouvrez les œuvres d’Hélène Launois\, peintre et plasticienne\, dans cette expo intitulée « Couleur de lumière ». L’artiste explore la lumière en tant que matière immatérielle. Après une période de peintures électrifiées\, puis d’œuvres en volume\, elle pratique aujourd’hui la vidéo et la photo\, la sculpture de verre ou de céramique.\nVernissage de l’exposition en présence de l’artiste le dimanche 5 avril\, de 15h à 18h.
URL:https://actu.art/event/exposition-a-la-galerie-rejane-louin-couleur-de-lumiere/
LOCATION:Galerie Réjane Louin\, 19 rue de l'Église\, Locquirec\, Finistère\, 29241\, France
CATEGORIES:Expositions Galeries
GEO:48.6923622;-3.645226
X-APPLE-STRUCTURED-LOCATION;VALUE=URI;X-ADDRESS=Galerie Réjane Louin 19 rue de l'Église Locquirec Finistère 29241 France;X-APPLE-RADIUS=500;X-TITLE=19 rue de l'Église:geo:-3.645226,48.6923622
END:VEVENT
END:VCALENDAR