BEGIN:VCALENDAR
VERSION:2.0
PRODID:-//Actu.Art - ECPv6.15.13//NONSGML v1.0//EN
CALSCALE:GREGORIAN
METHOD:PUBLISH
X-WR-CALNAME:Actu.Art
X-ORIGINAL-URL:https://actu.art
X-WR-CALDESC:Évènements pour Actu.Art
BEGIN:VTIMEZONE
TZID:Europe/Paris
BEGIN:DAYLIGHT
TZOFFSETFROM:+0100
TZOFFSETTO:+0200
TZNAME:CEST
DTSTART:20250330T010000
END:DAYLIGHT
BEGIN:STANDARD
TZOFFSETFROM:+0200
TZOFFSETTO:+0100
TZNAME:CET
DTSTART:20251026T010000
END:STANDARD
BEGIN:DAYLIGHT
TZOFFSETFROM:+0100
TZOFFSETTO:+0200
TZNAME:CEST
DTSTART:20260329T010000
END:DAYLIGHT
BEGIN:STANDARD
TZOFFSETFROM:+0200
TZOFFSETTO:+0100
TZNAME:CET
DTSTART:20261025T010000
END:STANDARD
BEGIN:DAYLIGHT
TZOFFSETFROM:+0100
TZOFFSETTO:+0200
TZNAME:CEST
DTSTART:20270328T010000
END:DAYLIGHT
BEGIN:STANDARD
TZOFFSETFROM:+0200
TZOFFSETTO:+0100
TZNAME:CET
DTSTART:20271031T010000
END:STANDARD
END:VTIMEZONE
BEGIN:VEVENT
DTSTART;TZID=Europe/Paris:20260725T143000
DTEND;TZID=Europe/Paris:20260823T183000
DTSTAMP:20260419T151726
CREATED:20260215T211244Z
LAST-MODIFIED:20260215T211244Z
UID:138642-1784989800-1787509800@actu.art
SUMMARY:Exposition à la Galerie l'Aquarelle
DESCRIPTION:Exposition de peinture à l’Aquarelle de Grez-Neuville du 25 juillet au 23 août 2026.
URL:https://actu.art/event/exposition-a-la-galerie-laquarelle-6/
LOCATION:Galerie l’Aquarelle\, 3 Place de l'Église\, Grez-Neuville\, Maine-et-Loire\, 49220\, France
CATEGORIES:Expositions Galeries
GEO:47.602715;-0.6876694
X-APPLE-STRUCTURED-LOCATION;VALUE=URI;X-ADDRESS=Galerie l’Aquarelle 3 Place de l'Église Grez-Neuville Maine-et-Loire 49220 France;X-APPLE-RADIUS=500;X-TITLE=3 Place de l'Église:geo:-0.6876694,47.602715
END:VEVENT
END:VCALENDAR