BEGIN:VCALENDAR
VERSION:2.0
PRODID:-//Actu.Art - ECPv6.15.13//NONSGML v1.0//EN
CALSCALE:GREGORIAN
METHOD:PUBLISH
X-WR-CALNAME:Actu.Art
X-ORIGINAL-URL:https://actu.art
X-WR-CALDESC:Évènements pour Actu.Art
BEGIN:VTIMEZONE
TZID:Europe/Paris
BEGIN:DAYLIGHT
TZOFFSETFROM:+0100
TZOFFSETTO:+0200
TZNAME:CEST
DTSTART:20230326T010000
END:DAYLIGHT
BEGIN:STANDARD
TZOFFSETFROM:+0200
TZOFFSETTO:+0100
TZNAME:CET
DTSTART:20231029T010000
END:STANDARD
BEGIN:DAYLIGHT
TZOFFSETFROM:+0100
TZOFFSETTO:+0200
TZNAME:CEST
DTSTART:20240331T010000
END:DAYLIGHT
BEGIN:STANDARD
TZOFFSETFROM:+0200
TZOFFSETTO:+0100
TZNAME:CET
DTSTART:20241027T010000
END:STANDARD
BEGIN:DAYLIGHT
TZOFFSETFROM:+0100
TZOFFSETTO:+0200
TZNAME:CEST
DTSTART:20250330T010000
END:DAYLIGHT
BEGIN:STANDARD
TZOFFSETFROM:+0200
TZOFFSETTO:+0100
TZNAME:CET
DTSTART:20251026T010000
END:STANDARD
END:VTIMEZONE
BEGIN:VEVENT
DTSTART;TZID=Europe/Paris:20241130T140000
DTEND;TZID=Europe/Paris:20241222T180000
DTSTAMP:20260423T030353
CREATED:20240905T210945Z
LAST-MODIFIED:20240905T210945Z
UID:97982-1732975200-1734890400@actu.art
SUMMARY:Exposition : 67e salon de peinture des Amis des Arts - "Montivilliers insolite et vibrations"
DESCRIPTION:L’association de peinture reconnue dans toute la région\, œuvre depuis de nombreuses années à faire rayonner l’art de la peinture. Elle regroupe des artistes amateurs avertis qui travaillent ensemble et partagent leurs expériences. \nDans cette exposition collective\, c’est la ville de Montivilliers qui est mise à l’honneur\, où les points de vue insolites de la commune seront le sujet des peintures dans différentes techniques. \nLes artistes\, pleinement investis et passionnés\, montreront toutes les facettes de la ville\, et de leurs talents !
URL:https://actu.art/event/exposition-67e-salon-de-peinture-des-amis-des-arts-montivilliers-insolite-et-vibrations/
LOCATION:Réfectoire de l’Abbaye\, Rue Félix Faure\, Montivilliers\, Seine-Maritime\, 76290\, France
CATEGORIES:Expositions
ATTACH;FMTTYPE=image/jpeg:https://actu.art/wp-content/uploads/2024/09/Exposition_67e_salon_de_peinture_des_Amis_des_Arts_Montivilliers_insolite_et_vibrations_.jpg
GEO:49.5457201;0.1940313
X-APPLE-STRUCTURED-LOCATION;VALUE=URI;X-ADDRESS=Réfectoire de l’Abbaye Rue Félix Faure Montivilliers Seine-Maritime 76290 France;X-APPLE-RADIUS=500;X-TITLE=Rue Félix Faure:geo:0.1940313,49.5457201
END:VEVENT
END:VCALENDAR