BEGIN:VCALENDAR
VERSION:2.0
PRODID:-//Actu.Art - ECPv6.15.13//NONSGML v1.0//EN
CALSCALE:GREGORIAN
METHOD:PUBLISH
X-WR-CALNAME:Actu.Art
X-ORIGINAL-URL:https://actu.art
X-WR-CALDESC:Évènements pour Actu.Art
BEGIN:VTIMEZONE
TZID:Europe/Paris
BEGIN:DAYLIGHT
TZOFFSETFROM:+0100
TZOFFSETTO:+0200
TZNAME:CEST
DTSTART:20250330T010000
END:DAYLIGHT
BEGIN:STANDARD
TZOFFSETFROM:+0200
TZOFFSETTO:+0100
TZNAME:CET
DTSTART:20251026T010000
END:STANDARD
BEGIN:DAYLIGHT
TZOFFSETFROM:+0100
TZOFFSETTO:+0200
TZNAME:CEST
DTSTART:20260329T010000
END:DAYLIGHT
BEGIN:STANDARD
TZOFFSETFROM:+0200
TZOFFSETTO:+0100
TZNAME:CET
DTSTART:20261025T010000
END:STANDARD
BEGIN:DAYLIGHT
TZOFFSETFROM:+0100
TZOFFSETTO:+0200
TZNAME:CEST
DTSTART:20270328T010000
END:DAYLIGHT
BEGIN:STANDARD
TZOFFSETFROM:+0200
TZOFFSETTO:+0100
TZNAME:CET
DTSTART:20271031T010000
END:STANDARD
END:VTIMEZONE
BEGIN:VEVENT
DTSTART;VALUE=DATE:20260419
DTEND;VALUE=DATE:20260423
DTSTAMP:20260420T033800
CREATED:20260416T062443Z
LAST-MODIFIED:20260416T062443Z
UID:143520-1776556800-1776902399@actu.art
SUMMARY:Exposition « 6 » artistes
DESCRIPTION:Cette exposition collective vous invite à découvrir dans un très bel écrin\, les œuvres de Sophie de Sagazan et d’Etienne Bouet pour la peinture\, de Gladys Rochas et d’Isabelle Iturria pour la céramique\, de Mathieu James pour le dessin et de Gogara pour la sculpture.\nLes œuvres de chaque artiste seront en vente.
URL:https://actu.art/event/exposition-6-artistes/
LOCATION:Maison Saliè\, 1820 route d'Hasparren\, La Bastide-Clairence\, Pyrénées-Atlantiques\, 64240
CATEGORIES:Expositions
ATTACH;FMTTYPE=image/jpeg:https://actu.art/wp-content/uploads/2026/04/Exposition_6_artistes.jpg
END:VEVENT
END:VCALENDAR