BEGIN:VCALENDAR
VERSION:2.0
PRODID:-//Actu.Art - ECPv6.15.13//NONSGML v1.0//EN
CALSCALE:GREGORIAN
METHOD:PUBLISH
X-WR-CALNAME:Actu.Art
X-ORIGINAL-URL:https://actu.art
X-WR-CALDESC:Évènements pour Actu.Art
BEGIN:VTIMEZONE
TZID:Europe/Paris
BEGIN:DAYLIGHT
TZOFFSETFROM:+0100
TZOFFSETTO:+0200
TZNAME:CEST
DTSTART:20240331T010000
END:DAYLIGHT
BEGIN:STANDARD
TZOFFSETFROM:+0200
TZOFFSETTO:+0100
TZNAME:CET
DTSTART:20241027T010000
END:STANDARD
BEGIN:DAYLIGHT
TZOFFSETFROM:+0100
TZOFFSETTO:+0200
TZNAME:CEST
DTSTART:20250330T010000
END:DAYLIGHT
BEGIN:STANDARD
TZOFFSETFROM:+0200
TZOFFSETTO:+0100
TZNAME:CET
DTSTART:20251026T010000
END:STANDARD
BEGIN:DAYLIGHT
TZOFFSETFROM:+0100
TZOFFSETTO:+0200
TZNAME:CEST
DTSTART:20260329T010000
END:DAYLIGHT
BEGIN:STANDARD
TZOFFSETFROM:+0200
TZOFFSETTO:+0100
TZNAME:CET
DTSTART:20261025T010000
END:STANDARD
END:VTIMEZONE
BEGIN:VEVENT
DTSTART;VALUE=DATE:20250503
DTEND;VALUE=DATE:20250525
DTSTAMP:20260425T223511
CREATED:20250530T215013Z
LAST-MODIFIED:20250530T215013Z
UID:117322-1746230400-1748131199@actu.art
SUMMARY:Exposition
DESCRIPTION:Théo Cordi expose du mercredi au samedi de 15h à 19h
URL:https://actu.art/event/exposition-27/
LOCATION:Le Chapeau Rouge\, 115 Grand'rue\, Montfort-en-Chalosse\, Landes\, 40380\, France
CATEGORIES:Expositions Galeries
ATTACH;FMTTYPE=image/jpeg:https://actu.art/wp-content/uploads/2025/05/Exposition.jpg
GEO:43.7109644;-0.8368977
X-APPLE-STRUCTURED-LOCATION;VALUE=URI;X-ADDRESS=Le Chapeau Rouge 115 Grand'rue Montfort-en-Chalosse Landes 40380 France;X-APPLE-RADIUS=500;X-TITLE=115 Grand'rue:geo:-0.8368977,43.7109644
END:VEVENT
END:VCALENDAR