BEGIN:VCALENDAR
VERSION:2.0
PRODID:-//Actu.Art - ECPv6.15.13//NONSGML v1.0//EN
CALSCALE:GREGORIAN
METHOD:PUBLISH
X-WR-CALNAME:Actu.Art
X-ORIGINAL-URL:https://actu.art
X-WR-CALDESC:Évènements pour Actu.Art
BEGIN:VTIMEZONE
TZID:Europe/Paris
BEGIN:DAYLIGHT
TZOFFSETFROM:+0100
TZOFFSETTO:+0200
TZNAME:CEST
DTSTART:20240331T010000
END:DAYLIGHT
BEGIN:STANDARD
TZOFFSETFROM:+0200
TZOFFSETTO:+0100
TZNAME:CET
DTSTART:20241027T010000
END:STANDARD
BEGIN:DAYLIGHT
TZOFFSETFROM:+0100
TZOFFSETTO:+0200
TZNAME:CEST
DTSTART:20250330T010000
END:DAYLIGHT
BEGIN:STANDARD
TZOFFSETFROM:+0200
TZOFFSETTO:+0100
TZNAME:CET
DTSTART:20251026T010000
END:STANDARD
BEGIN:DAYLIGHT
TZOFFSETFROM:+0100
TZOFFSETTO:+0200
TZNAME:CEST
DTSTART:20260329T010000
END:DAYLIGHT
BEGIN:STANDARD
TZOFFSETFROM:+0200
TZOFFSETTO:+0100
TZNAME:CET
DTSTART:20261025T010000
END:STANDARD
END:VTIMEZONE
BEGIN:VEVENT
DTSTART;TZID=Europe/Paris:20250428T140000
DTEND;TZID=Europe/Paris:20250504T183000
DTSTAMP:20260424T170959
CREATED:20250506T202658Z
LAST-MODIFIED:20250506T202658Z
UID:117060-1745848800-1746383400@actu.art
SUMMARY:Exposition
DESCRIPTION:Exposition de peintures et sculptures
URL:https://actu.art/event/exposition-26/
LOCATION:La Chapelle de Saint Germain des Vaux\, Saint Germain des Vaux\, La Hague\, Manche\, 50440\, France
CATEGORIES:Expositions
GEO:49.710688;-1.91322
X-APPLE-STRUCTURED-LOCATION;VALUE=URI;X-ADDRESS=La Chapelle de Saint Germain des Vaux Saint Germain des Vaux La Hague Manche 50440 France;X-APPLE-RADIUS=500;X-TITLE=Saint Germain des Vaux:geo:-1.91322,49.710688
END:VEVENT
END:VCALENDAR