BEGIN:VCALENDAR
VERSION:2.0
PRODID:-//Actu.Art - ECPv6.15.13//NONSGML v1.0//EN
CALSCALE:GREGORIAN
METHOD:PUBLISH
X-WR-CALNAME:Actu.Art
X-ORIGINAL-URL:https://actu.art
X-WR-CALDESC:Évènements pour Actu.Art
BEGIN:VTIMEZONE
TZID:Europe/Paris
BEGIN:DAYLIGHT
TZOFFSETFROM:+0100
TZOFFSETTO:+0200
TZNAME:CEST
DTSTART:20250330T010000
END:DAYLIGHT
BEGIN:STANDARD
TZOFFSETFROM:+0200
TZOFFSETTO:+0100
TZNAME:CET
DTSTART:20251026T010000
END:STANDARD
BEGIN:DAYLIGHT
TZOFFSETFROM:+0100
TZOFFSETTO:+0200
TZNAME:CEST
DTSTART:20260329T010000
END:DAYLIGHT
BEGIN:STANDARD
TZOFFSETFROM:+0200
TZOFFSETTO:+0100
TZNAME:CET
DTSTART:20261025T010000
END:STANDARD
BEGIN:DAYLIGHT
TZOFFSETFROM:+0100
TZOFFSETTO:+0200
TZNAME:CEST
DTSTART:20270328T010000
END:DAYLIGHT
BEGIN:STANDARD
TZOFFSETFROM:+0200
TZOFFSETTO:+0100
TZNAME:CET
DTSTART:20271031T010000
END:STANDARD
END:VTIMEZONE
BEGIN:VEVENT
DTSTART;TZID=Europe/Paris:20260521T100000
DTEND;TZID=Europe/Paris:20260528T183000
DTSTAMP:20260423T141032
CREATED:20260414T200115Z
LAST-MODIFIED:20260414T200115Z
UID:143267-1779357600-1779993000@actu.art
SUMMARY:Expo : les compagnons artistes
DESCRIPTION:Peintures et sculptures
URL:https://actu.art/event/expo-les-compagnons-artistes/
LOCATION:Saint-Valery-sur-Somme\, Place des Pilotes\, Saint-Valery-sur-Somme\, Somme\, 80230\, France
CATEGORIES:Expositions
GEO:50.1867572;1.6388243
X-APPLE-STRUCTURED-LOCATION;VALUE=URI;X-ADDRESS=Saint-Valery-sur-Somme Place des Pilotes Saint-Valery-sur-Somme Somme 80230 France;X-APPLE-RADIUS=500;X-TITLE=Place des Pilotes:geo:1.6388243,50.1867572
END:VEVENT
END:VCALENDAR