BEGIN:VCALENDAR
VERSION:2.0
PRODID:-//Actu.Art - ECPv6.15.13//NONSGML v1.0//EN
CALSCALE:GREGORIAN
METHOD:PUBLISH
X-WR-CALNAME:Actu.Art
X-ORIGINAL-URL:https://actu.art
X-WR-CALDESC:Évènements pour Actu.Art
BEGIN:VTIMEZONE
TZID:Europe/Paris
BEGIN:DAYLIGHT
TZOFFSETFROM:+0100
TZOFFSETTO:+0200
TZNAME:CEST
DTSTART:20240331T010000
END:DAYLIGHT
BEGIN:STANDARD
TZOFFSETFROM:+0200
TZOFFSETTO:+0100
TZNAME:CET
DTSTART:20241027T010000
END:STANDARD
BEGIN:DAYLIGHT
TZOFFSETFROM:+0100
TZOFFSETTO:+0200
TZNAME:CEST
DTSTART:20250330T010000
END:DAYLIGHT
BEGIN:STANDARD
TZOFFSETFROM:+0200
TZOFFSETTO:+0100
TZNAME:CET
DTSTART:20251026T010000
END:STANDARD
BEGIN:DAYLIGHT
TZOFFSETFROM:+0100
TZOFFSETTO:+0200
TZNAME:CEST
DTSTART:20260329T010000
END:DAYLIGHT
BEGIN:STANDARD
TZOFFSETFROM:+0200
TZOFFSETTO:+0100
TZNAME:CET
DTSTART:20261025T010000
END:STANDARD
END:VTIMEZONE
BEGIN:VEVENT
DTSTART;VALUE=DATE:20250805
DTEND;VALUE=DATE:20250819
DTSTAMP:20260421T031641
CREATED:20250910T220747Z
LAST-MODIFIED:20250910T220747Z
UID:127305-1754352000-1755561599@actu.art
SUMMARY:Expo Hervé Lamb’
DESCRIPTION:Exposition de peintures. Utilisation de différentes matières  (acrylique\, huile\, pastel…)\nLe 14/08 à partir de 18h\, -25% sur tous les tableaux. Et venez partager le verre de l’amitié.
URL:https://actu.art/event/expo-herve-lamb/
LOCATION:La Petite Galerie\, 22 Rue des Minimes\, Mâcon\, Saône-et-Loire\, 71000\, France
CATEGORIES:Expositions Galeries
ATTACH;FMTTYPE=image/jpeg:https://actu.art/wp-content/uploads/2025/08/Expo_Herve_Lamb_.jpg
GEO:46.3045776;4.8317202
X-APPLE-STRUCTURED-LOCATION;VALUE=URI;X-ADDRESS=La Petite Galerie 22 Rue des Minimes Mâcon Saône-et-Loire 71000 France;X-APPLE-RADIUS=500;X-TITLE=22 Rue des Minimes:geo:4.8317202,46.3045776
END:VEVENT
END:VCALENDAR