BEGIN:VCALENDAR
VERSION:2.0
PRODID:-//Actu.Art - ECPv6.15.13//NONSGML v1.0//EN
CALSCALE:GREGORIAN
METHOD:PUBLISH
X-WR-CALNAME:Actu.Art
X-ORIGINAL-URL:https://actu.art
X-WR-CALDESC:Évènements pour Actu.Art
BEGIN:VTIMEZONE
TZID:Europe/Paris
BEGIN:DAYLIGHT
TZOFFSETFROM:+0100
TZOFFSETTO:+0200
TZNAME:CEST
DTSTART:20240331T010000
END:DAYLIGHT
BEGIN:STANDARD
TZOFFSETFROM:+0200
TZOFFSETTO:+0100
TZNAME:CET
DTSTART:20241027T010000
END:STANDARD
BEGIN:DAYLIGHT
TZOFFSETFROM:+0100
TZOFFSETTO:+0200
TZNAME:CEST
DTSTART:20250330T010000
END:DAYLIGHT
BEGIN:STANDARD
TZOFFSETFROM:+0200
TZOFFSETTO:+0100
TZNAME:CET
DTSTART:20251026T010000
END:STANDARD
BEGIN:DAYLIGHT
TZOFFSETFROM:+0100
TZOFFSETTO:+0200
TZNAME:CEST
DTSTART:20260329T010000
END:DAYLIGHT
BEGIN:STANDARD
TZOFFSETFROM:+0200
TZOFFSETTO:+0100
TZNAME:CET
DTSTART:20261025T010000
END:STANDARD
END:VTIMEZONE
BEGIN:VEVENT
DTSTART;VALUE=DATE:20250514
DTEND;VALUE=DATE:20250831
DTSTAMP:20260421T134155
CREATED:20250303T164309Z
LAST-MODIFIED:20250303T164309Z
UID:108114-1747180800-1756598399@actu.art
SUMMARY:Expo Artiste  » 70 ans de création Gault « 
DESCRIPTION:Exposition du 14 mai au 30 août 2025 >   » Oeuvres contemporaines » de Jean-Pierre Gault\, un artiste villeneuvois au parcours créatif incroyable ( 1950 à 2020 ) présenté dans 4 espaces et galeries de la commune.
URL:https://actu.art/event/expo-artiste-70-ans-de-creation-gault/
LOCATION:Pôle culturel Auguste Escoffier\, 30 Allée Simone Veil\, Villeneuve-Loubet\, Alpes-Maritimes\, 06270
CATEGORIES:Expositions
GEO:43.655668;7.127369
X-APPLE-STRUCTURED-LOCATION;VALUE=URI;X-ADDRESS=Pôle culturel Auguste Escoffier 30 Allée Simone Veil Villeneuve-Loubet Alpes-Maritimes 06270;X-APPLE-RADIUS=500;X-TITLE=30 Allée Simone Veil:geo:7.127369,43.655668
END:VEVENT
END:VCALENDAR