BEGIN:VCALENDAR
VERSION:2.0
PRODID:-//Actu.Art - ECPv6.15.13//NONSGML v1.0//EN
CALSCALE:GREGORIAN
METHOD:PUBLISH
X-WR-CALNAME:Actu.Art
X-ORIGINAL-URL:https://actu.art
X-WR-CALDESC:Évènements pour Actu.Art
BEGIN:VTIMEZONE
TZID:Europe/Paris
BEGIN:DAYLIGHT
TZOFFSETFROM:+0100
TZOFFSETTO:+0200
TZNAME:CEST
DTSTART:20240331T010000
END:DAYLIGHT
BEGIN:STANDARD
TZOFFSETFROM:+0200
TZOFFSETTO:+0100
TZNAME:CET
DTSTART:20241027T010000
END:STANDARD
BEGIN:DAYLIGHT
TZOFFSETFROM:+0100
TZOFFSETTO:+0200
TZNAME:CEST
DTSTART:20250330T010000
END:DAYLIGHT
BEGIN:STANDARD
TZOFFSETFROM:+0200
TZOFFSETTO:+0100
TZNAME:CET
DTSTART:20251026T010000
END:STANDARD
BEGIN:DAYLIGHT
TZOFFSETFROM:+0100
TZOFFSETTO:+0200
TZNAME:CEST
DTSTART:20260329T010000
END:DAYLIGHT
BEGIN:STANDARD
TZOFFSETFROM:+0200
TZOFFSETTO:+0100
TZNAME:CET
DTSTART:20261025T010000
END:STANDARD
END:VTIMEZONE
BEGIN:VEVENT
DTSTART;TZID=Europe/Paris:20250804T140000
DTEND;TZID=Europe/Paris:20250830T180000
DTSTAMP:20260422T114604
CREATED:20250414T191402Z
LAST-MODIFIED:20250414T191402Z
UID:114301-1754316000-1756576800@actu.art
SUMMARY:Expo Arti-ligériens
DESCRIPTION:Diversité des œuvres\, diversité des arts\, diversité des artistes. Le musée élargit son champ culturel.\n9 artistes exposent au musée – Installation\, sculpture\, poterie\, poésie\, Littérature.
URL:https://actu.art/event/expo-arti-ligeriens/
LOCATION:Musée Pomarat\, rue de la chapelle des pénitents\, Saint-Paulien\, Haute-Loire\, 43350
CATEGORIES:Expositions
ATTACH;FMTTYPE=image/jpeg:https://actu.art/wp-content/uploads/2025/04/Expo_Arti_ligeriens.jpg
END:VEVENT
END:VCALENDAR