BEGIN:VCALENDAR
VERSION:2.0
PRODID:-//Actu.Art - ECPv6.15.13//NONSGML v1.0//EN
CALSCALE:GREGORIAN
METHOD:PUBLISH
X-WR-CALNAME:Actu.Art
X-ORIGINAL-URL:https://actu.art
X-WR-CALDESC:Évènements pour Actu.Art
BEGIN:VTIMEZONE
TZID:Europe/Paris
BEGIN:DAYLIGHT
TZOFFSETFROM:+0100
TZOFFSETTO:+0200
TZNAME:CEST
DTSTART:20240331T010000
END:DAYLIGHT
BEGIN:STANDARD
TZOFFSETFROM:+0200
TZOFFSETTO:+0100
TZNAME:CET
DTSTART:20241027T010000
END:STANDARD
BEGIN:DAYLIGHT
TZOFFSETFROM:+0100
TZOFFSETTO:+0200
TZNAME:CEST
DTSTART:20250330T010000
END:DAYLIGHT
BEGIN:STANDARD
TZOFFSETFROM:+0200
TZOFFSETTO:+0100
TZNAME:CET
DTSTART:20251026T010000
END:STANDARD
BEGIN:DAYLIGHT
TZOFFSETFROM:+0100
TZOFFSETTO:+0200
TZNAME:CEST
DTSTART:20260329T010000
END:DAYLIGHT
BEGIN:STANDARD
TZOFFSETFROM:+0200
TZOFFSETTO:+0100
TZNAME:CET
DTSTART:20261025T010000
END:STANDARD
END:VTIMEZONE
BEGIN:VEVENT
DTSTART;TZID=Europe/Paris:20250416T100000
DTEND;TZID=Europe/Paris:20250430T170000
DTSTAMP:20260426T030713
CREATED:20250423T204210Z
LAST-MODIFIED:20250423T204210Z
UID:115633-1744797600-1746032400@actu.art
SUMMARY:Evolution Fluide
DESCRIPTION:Exposition collective de 4 artistes à Paris 75004 rue D’Ormesson : dates : jeudi 16 /04 au 30 /04 / 2025\ngallery THE MUISCA ART@THEMUISCA.COM
URL:https://actu.art/event/evolution-fluide/
LOCATION:The Muisca – Art Space\, 8 Rue d'Ormesson\, Paris\, Paris\, 75004\, France
CATEGORIES:Expositions
ATTACH;FMTTYPE=image/jpeg:https://actu.art/wp-content/uploads/2025/04/Evolution_Fluide.jpg
GEO:48.8554094;2.3623774
X-APPLE-STRUCTURED-LOCATION;VALUE=URI;X-ADDRESS=The Muisca – Art Space 8 Rue d'Ormesson Paris Paris 75004 France;X-APPLE-RADIUS=500;X-TITLE=8 Rue d'Ormesson:geo:2.3623774,48.8554094
END:VEVENT
END:VCALENDAR