BEGIN:VCALENDAR
VERSION:2.0
PRODID:-//Actu.Art - ECPv6.15.13//NONSGML v1.0//EN
CALSCALE:GREGORIAN
METHOD:PUBLISH
X-WR-CALNAME:Actu.Art
X-ORIGINAL-URL:https://actu.art
X-WR-CALDESC:Évènements pour Actu.Art
BEGIN:VTIMEZONE
TZID:Europe/Paris
BEGIN:DAYLIGHT
TZOFFSETFROM:+0100
TZOFFSETTO:+0200
TZNAME:CEST
DTSTART:20220327T010000
END:DAYLIGHT
BEGIN:STANDARD
TZOFFSETFROM:+0200
TZOFFSETTO:+0100
TZNAME:CET
DTSTART:20221030T010000
END:STANDARD
BEGIN:DAYLIGHT
TZOFFSETFROM:+0100
TZOFFSETTO:+0200
TZNAME:CEST
DTSTART:20230326T010000
END:DAYLIGHT
BEGIN:STANDARD
TZOFFSETFROM:+0200
TZOFFSETTO:+0100
TZNAME:CET
DTSTART:20231029T010000
END:STANDARD
BEGIN:DAYLIGHT
TZOFFSETFROM:+0100
TZOFFSETTO:+0200
TZNAME:CEST
DTSTART:20240331T010000
END:DAYLIGHT
BEGIN:STANDARD
TZOFFSETFROM:+0200
TZOFFSETTO:+0100
TZNAME:CET
DTSTART:20241027T010000
END:STANDARD
END:VTIMEZONE
BEGIN:VEVENT
DTSTART;TZID=Europe/Paris:20230322T100000
DTEND;TZID=Europe/Paris:20231105T190000
DTSTAMP:20260422T230955
CREATED:20230124T193236Z
LAST-MODIFIED:20231011T214727Z
UID:54661-1679479200-1699210800@actu.art
SUMMARY:Eternel Mucha
DESCRIPTION:Figure majeure de l’Art Nouveau\, pionnier de l’art de l’affiche et précurseur de la publicité\, Alphonse Mucha est l’un des artistes les plus célèbres d’Europe en son temps. \nDès ses débuts\, à l’aube de la Belle époque\, son style fascine : magnifiant la nature\, exaltant la beauté féminine\, il s’applique à une grande variété d’œuvres et d’objets qui rencontrent un succès retentissant. \nAvec Éternel Mucha\, Grand Palais Immersif et la Fondation Mucha mettent en lumière l’héritage du maître de l’Art Nouveau à travers une expérience immersive\, interactive et sensorielle. En trois actes\, l’exposition retrace l’histoire d’Alphonse Mucha et donne à voir ses œuvres majeures\, dont l’Épopée slave\, présentée de façon spectaculaire. Elle souligne aussi l’influence durable de l’artiste\, source d’inspiration pour la création d’aujourd’hui\, de l’art des rues aux mangas\, du cinéma au tatouage. \nPar le biais de projections en très haute définition\, d’un univers musical et olfactif original et de dispositifs interactifs\, Éternel Mucha offre aux visiteurs une plongée unique au cœur de l’œuvre d’un artiste avant-gardiste\, icône du raffinement\, de l’élégance et de la modernité. \nExposition coproduite par Grand Palais Immersif (filiale de la Rmn – Grand Palais) et la Fondation Mucha.
URL:https://actu.art/event/eternel-mucha/
LOCATION:Grand Palais Immersif\, 110\, rue de Lyon\, Paris\, Paris\, 75012\, France
CATEGORIES:Notre Sélection
ATTACH;FMTTYPE=image/webp:https://actu.art/wp-content/uploads/2023/01/Eternel-Mucha.webp
GEO:48.8510924;2.3704562
X-APPLE-STRUCTURED-LOCATION;VALUE=URI;X-ADDRESS=Grand Palais Immersif 110 rue de Lyon Paris Paris 75012 France;X-APPLE-RADIUS=500;X-TITLE=110\, rue de Lyon:geo:2.3704562,48.8510924
END:VEVENT
END:VCALENDAR