BEGIN:VCALENDAR
VERSION:2.0
PRODID:-//Actu.Art - ECPv6.15.13//NONSGML v1.0//EN
CALSCALE:GREGORIAN
METHOD:PUBLISH
X-WR-CALNAME:Actu.Art
X-ORIGINAL-URL:https://actu.art
X-WR-CALDESC:Évènements pour Actu.Art
BEGIN:VTIMEZONE
TZID:Europe/Paris
BEGIN:DAYLIGHT
TZOFFSETFROM:+0100
TZOFFSETTO:+0200
TZNAME:CEST
DTSTART:20230326T010000
END:DAYLIGHT
BEGIN:STANDARD
TZOFFSETFROM:+0200
TZOFFSETTO:+0100
TZNAME:CET
DTSTART:20231029T010000
END:STANDARD
BEGIN:DAYLIGHT
TZOFFSETFROM:+0100
TZOFFSETTO:+0200
TZNAME:CEST
DTSTART:20240331T010000
END:DAYLIGHT
BEGIN:STANDARD
TZOFFSETFROM:+0200
TZOFFSETTO:+0100
TZNAME:CET
DTSTART:20241027T010000
END:STANDARD
BEGIN:DAYLIGHT
TZOFFSETFROM:+0100
TZOFFSETTO:+0200
TZNAME:CEST
DTSTART:20250330T010000
END:DAYLIGHT
BEGIN:STANDARD
TZOFFSETFROM:+0200
TZOFFSETTO:+0100
TZNAME:CET
DTSTART:20251026T010000
END:STANDARD
END:VTIMEZONE
BEGIN:VEVENT
DTSTART;TZID=Europe/Paris:20241005T100000
DTEND;TZID=Europe/Paris:20241027T170000
DTSTAMP:20260424T010549
CREATED:20240823T122812Z
LAST-MODIFIED:20240906T102432Z
UID:96897-1728122400-1730048400@actu.art
SUMMARY:"Et pendant ce temps là\, au fil de l’eau…"
DESCRIPTION:Exposition personnelle de DELPHE (Delphine MENU)\, peintre plasticienne
URL:https://actu.art/event/et-pendant-ce-temps-la-au-fil-de-leau/
LOCATION:Espace Culturel Martial Taugourdeau\, 19 rue Saint-Roch\, Bonneval\, Eure-et-Loir\, 28800\, France
CATEGORIES:Expositions
ATTACH;FMTTYPE=image/jpeg:https://actu.art/wp-content/uploads/2024/08/Affiche-Delphe-Bonneval-2024__ERYA.jpg
ORGANIZER;CN="ERYA":MAILTO:contact@erya.ovh
GEO:48.1814358;1.3861883
X-APPLE-STRUCTURED-LOCATION;VALUE=URI;X-ADDRESS=Espace Culturel Martial Taugourdeau 19 rue Saint-Roch Bonneval Eure-et-Loir 28800 France;X-APPLE-RADIUS=500;X-TITLE=19 rue Saint-Roch:geo:1.3861883,48.1814358
END:VEVENT
END:VCALENDAR