BEGIN:VCALENDAR
VERSION:2.0
PRODID:-//Actu.Art - ECPv6.15.13//NONSGML v1.0//EN
CALSCALE:GREGORIAN
METHOD:PUBLISH
X-WR-CALNAME:Actu.Art
X-ORIGINAL-URL:https://actu.art
X-WR-CALDESC:Évènements pour Actu.Art
BEGIN:VTIMEZONE
TZID:Europe/Paris
BEGIN:DAYLIGHT
TZOFFSETFROM:+0100
TZOFFSETTO:+0200
TZNAME:CEST
DTSTART:20240331T010000
END:DAYLIGHT
BEGIN:STANDARD
TZOFFSETFROM:+0200
TZOFFSETTO:+0100
TZNAME:CET
DTSTART:20241027T010000
END:STANDARD
BEGIN:DAYLIGHT
TZOFFSETFROM:+0100
TZOFFSETTO:+0200
TZNAME:CEST
DTSTART:20250330T010000
END:DAYLIGHT
BEGIN:STANDARD
TZOFFSETFROM:+0200
TZOFFSETTO:+0100
TZNAME:CET
DTSTART:20251026T010000
END:STANDARD
BEGIN:DAYLIGHT
TZOFFSETFROM:+0100
TZOFFSETTO:+0200
TZNAME:CEST
DTSTART:20260329T010000
END:DAYLIGHT
BEGIN:STANDARD
TZOFFSETFROM:+0200
TZOFFSETTO:+0100
TZNAME:CET
DTSTART:20261025T010000
END:STANDARD
END:VTIMEZONE
BEGIN:VEVENT
DTSTART;TZID=Europe/Paris:20250403T130000
DTEND;TZID=Europe/Paris:20250901T180000
DTSTAMP:20260422T200637
CREATED:20250403T114003Z
LAST-MODIFIED:20250403T114003Z
UID:113457-1743685200-1756749600@actu.art
SUMMARY:Entrelacer : Collections du MUba
DESCRIPTION:Entrelacer une traversée de la peinture depuis le 17e siècle\, l’histoire du lieu et un accrochage-manifeste testant dans l’espace l’équilibre entre des oeuvres éloignées dans le temps : le MUba Eugène Leroy vous invite à une exposition généreuse et inattendue de ses plus belles collections pour redécouvrir un musée des beaux-arts singulier et attachant. \nConçus en miroir dans les deux galeries d’exposition\, deux parcours s’éclairent l’un l’autre : \ndans la nef : dans un accrochage mélangeant les médiums et les époques\, le thème du mouvement est abordé (mouvement représenté\, gestes de l’artiste\, oeuvre comme rythme et seuil d’un espace physique ou mental) et interroge ce que signifie et ce que provoque\, chez le visiteur\, la découverte d’oeuvres plastiques dans l’espace d’un musée ; \ndans la salle aux colonnes : proposant une traversée de l’histoire de l’art du 17e à nos jours\, les plus importantes peintures de la collection du MUba sont regroupées dans un parcours chronologique qui aborde également l’histoire du musée et de la constitution de ses collections depuis 1860. \nL’oeuvre d’Eugène Leroy\, artiste tutélaire du musée\, est présente dans chacune des parties
URL:https://actu.art/event/entrelacer-collections-du-muba/
LOCATION:MUba Eugène Leroy\, 2 rue Paul Doumer\, Tourcoing\, Nord\, 59200\, France
CATEGORIES:Expositions
ATTACH;FMTTYPE=image/jpeg:https://actu.art/wp-content/uploads/2025/04/Entrelacer_Collections_du_MUba.jpg
GEO:50.7233283;3.1620427
X-APPLE-STRUCTURED-LOCATION;VALUE=URI;X-ADDRESS=MUba Eugène Leroy 2 rue Paul Doumer Tourcoing Nord 59200 France;X-APPLE-RADIUS=500;X-TITLE=2 rue Paul Doumer:geo:3.1620427,50.7233283
END:VEVENT
END:VCALENDAR