BEGIN:VCALENDAR
VERSION:2.0
PRODID:-//Actu.Art - ECPv6.15.13//NONSGML v1.0//EN
CALSCALE:GREGORIAN
METHOD:PUBLISH
X-WR-CALNAME:Actu.Art
X-ORIGINAL-URL:https://actu.art
X-WR-CALDESC:Évènements pour Actu.Art
BEGIN:VTIMEZONE
TZID:Europe/Paris
BEGIN:DAYLIGHT
TZOFFSETFROM:+0100
TZOFFSETTO:+0200
TZNAME:CEST
DTSTART:20240331T010000
END:DAYLIGHT
BEGIN:STANDARD
TZOFFSETFROM:+0200
TZOFFSETTO:+0100
TZNAME:CET
DTSTART:20241027T010000
END:STANDARD
BEGIN:DAYLIGHT
TZOFFSETFROM:+0100
TZOFFSETTO:+0200
TZNAME:CEST
DTSTART:20250330T010000
END:DAYLIGHT
BEGIN:STANDARD
TZOFFSETFROM:+0200
TZOFFSETTO:+0100
TZNAME:CET
DTSTART:20251026T010000
END:STANDARD
BEGIN:DAYLIGHT
TZOFFSETFROM:+0100
TZOFFSETTO:+0200
TZNAME:CEST
DTSTART:20260329T010000
END:DAYLIGHT
BEGIN:STANDARD
TZOFFSETFROM:+0200
TZOFFSETTO:+0100
TZNAME:CET
DTSTART:20261025T010000
END:STANDARD
END:VTIMEZONE
BEGIN:VEVENT
DTSTART;VALUE=DATE:20251219
DTEND;VALUE=DATE:20251222
DTSTAMP:20260424T152317
CREATED:20251224T161811Z
LAST-MODIFIED:20251224T161811Z
UID:135727-1766102400-1766361599@actu.art
SUMMARY:Ensemble ! Together !
DESCRIPTION:14e édition d’une exposition collective internationale réunissant une quinzaine d’artistes. \nRepérés sur Instagram\, les photographes sont invités à quitter l’espace numérique pour expérimenter la confrontation réelle : exposer sur de vrais murs\, échanger avec d’autres artistes et rencontrer un public qui découvre quatre images de chacun\, dont une spécialement conçue autour du thème « Ensemble ».
URL:https://actu.art/event/ensemble-together/
LOCATION:Le Bonheur est dans l’Instant\, 72 rue Amelot\, Paris 11e\, Paris\, 75011
CATEGORIES:Expositions
ATTACH;FMTTYPE=image/jpeg:https://actu.art/wp-content/uploads/2025/12/Ensemble_Together_.jpg
GEO:48.8604343;2.3680976
X-APPLE-STRUCTURED-LOCATION;VALUE=URI;X-ADDRESS=Le Bonheur est dans l’Instant 72 rue Amelot Paris 11e Paris 75011;X-APPLE-RADIUS=500;X-TITLE=72 rue Amelot:geo:2.3680976,48.8604343
END:VEVENT
END:VCALENDAR